BEGIN:VCALENDAR
VERSION:2.0
PRODID:-//Osco Community Church - ECPv6.15.20//NONSGML v1.0//EN
CALSCALE:GREGORIAN
METHOD:PUBLISH
X-ORIGINAL-URL:https://oscochurch.org
X-WR-CALDESC:Events for Osco Community Church
REFRESH-INTERVAL;VALUE=DURATION:PT1H
X-Robots-Tag:noindex
X-PUBLISHED-TTL:PT1H
BEGIN:VTIMEZONE
TZID:America/Chicago
BEGIN:DAYLIGHT
TZOFFSETFROM:-0600
TZOFFSETTO:-0500
TZNAME:CDT
DTSTART:20240310T080000
END:DAYLIGHT
BEGIN:STANDARD
TZOFFSETFROM:-0500
TZOFFSETTO:-0600
TZNAME:CST
DTSTART:20241103T070000
END:STANDARD
BEGIN:DAYLIGHT
TZOFFSETFROM:-0600
TZOFFSETTO:-0500
TZNAME:CDT
DTSTART:20250309T080000
END:DAYLIGHT
BEGIN:STANDARD
TZOFFSETFROM:-0500
TZOFFSETTO:-0600
TZNAME:CST
DTSTART:20251102T070000
END:STANDARD
BEGIN:DAYLIGHT
TZOFFSETFROM:-0600
TZOFFSETTO:-0500
TZNAME:CDT
DTSTART:20260308T080000
END:DAYLIGHT
BEGIN:STANDARD
TZOFFSETFROM:-0500
TZOFFSETTO:-0600
TZNAME:CST
DTSTART:20261101T070000
END:STANDARD
END:VTIMEZONE
BEGIN:VEVENT
DTSTART;TZID=America/Chicago:20250608T140000
DTEND;TZID=America/Chicago:20250608T170000
DTSTAMP:20260421T195206
CREATED:20230622T211924Z
LAST-MODIFIED:20250425T165449Z
UID:3009-1749391200-1749402000@oscochurch.org
SUMMARY:Women's Ministry "Joseph and the Amazing Technicolor Dreamcoat" Musical
DESCRIPTION:Join the women of Osco Community Church for a women’s outing to “Joseph and the Amazing Technicolor Dreamcoat” musical at the Quad City Music Guild in Moline. \nTickets are $20 for adults. 2:00 pm performance \nMore information coming about lunch & ride details as time gets closer. \nFor more information or to order tickets\, contact Nancy Hatfield\, Cheryl Fleming\, or Lucy Britt. Please join us. \nOpen to ALL Women of OCC!!
URL:https://oscochurch.org/event/womens-ministry-get-together/
CATEGORIES:Women's Ministry
ORGANIZER;CN="Osco Community Church":MAILTO:office@oscochurch.org
END:VEVENT
END:VCALENDAR