BEGIN:VCALENDAR
VERSION:2.0
PRODID:-//Osco Community Church - ECPv6.15.20//NONSGML v1.0//EN
CALSCALE:GREGORIAN
METHOD:PUBLISH
X-WR-CALNAME:Osco Community Church
X-ORIGINAL-URL:https://oscochurch.org
X-WR-CALDESC:Events for Osco Community Church
REFRESH-INTERVAL;VALUE=DURATION:PT1H
X-Robots-Tag:noindex
X-PUBLISHED-TTL:PT1H
BEGIN:VTIMEZONE
TZID:America/Chicago
BEGIN:DAYLIGHT
TZOFFSETFROM:-0600
TZOFFSETTO:-0500
TZNAME:CDT
DTSTART:20250309T080000
END:DAYLIGHT
BEGIN:STANDARD
TZOFFSETFROM:-0500
TZOFFSETTO:-0600
TZNAME:CST
DTSTART:20251102T070000
END:STANDARD
BEGIN:DAYLIGHT
TZOFFSETFROM:-0600
TZOFFSETTO:-0500
TZNAME:CDT
DTSTART:20260308T080000
END:DAYLIGHT
BEGIN:STANDARD
TZOFFSETFROM:-0500
TZOFFSETTO:-0600
TZNAME:CST
DTSTART:20261101T070000
END:STANDARD
BEGIN:DAYLIGHT
TZOFFSETFROM:-0600
TZOFFSETTO:-0500
TZNAME:CDT
DTSTART:20270314T080000
END:DAYLIGHT
BEGIN:STANDARD
TZOFFSETFROM:-0500
TZOFFSETTO:-0600
TZNAME:CST
DTSTART:20271107T070000
END:STANDARD
END:VTIMEZONE
BEGIN:VEVENT
DTSTART;TZID=America/Chicago:20260420T190000
DTEND;TZID=America/Chicago:20260420T213000
DTSTAMP:20260421T130539
CREATED:20260107T200828Z
LAST-MODIFIED:20260310T193904Z
UID:6379-1776711600-1776720600@oscochurch.org
SUMMARY:Elder Meeting
DESCRIPTION:
URL:https://oscochurch.org/event/elder-meeting-2/
LOCATION:311 Main Street\, Osco\, IL\, 61274\, United States
CATEGORIES:Staff/Office
ORGANIZER;CN="Osco Community Church":MAILTO:office@oscochurch.org
END:VEVENT
BEGIN:VEVENT
DTSTART;TZID=America/Chicago:20260421T090000
DTEND;TZID=America/Chicago:20260421T110000
DTSTAMP:20260421T130539
CREATED:20240808T164658Z
LAST-MODIFIED:20260213T173706Z
UID:5166-1776762000-1776769200@oscochurch.org
SUMMARY:Staff Meeting
DESCRIPTION:
URL:https://oscochurch.org/event/staff-meeting/
LOCATION:311 Main Street\, Osco\, IL\, 61274\, United States
CATEGORIES:Staff/Office
ORGANIZER;CN="Osco Community Church":MAILTO:office@oscochurch.org
END:VEVENT
BEGIN:VEVENT
DTSTART;TZID=America/Chicago:20260428T090000
DTEND;TZID=America/Chicago:20260428T110000
DTSTAMP:20260421T130539
CREATED:20260213T174010Z
LAST-MODIFIED:20260213T174010Z
UID:6491-1777366800-1777374000@oscochurch.org
SUMMARY:Staff Meeting
DESCRIPTION:
URL:https://oscochurch.org/event/staff-meeting-10/
LOCATION:311 Main Street\, Osco\, IL\, 61274\, United States
CATEGORIES:Staff/Office
ORGANIZER;CN="Osco Community Church":MAILTO:office@oscochurch.org
END:VEVENT
BEGIN:VEVENT
DTSTART;TZID=America/Chicago:20260429T183000
DTEND;TZID=America/Chicago:20260429T210000
DTSTAMP:20260421T130539
CREATED:20241028T185920Z
LAST-MODIFIED:20260420T184831Z
UID:5381-1777487400-1777496400@oscochurch.org
SUMMARY:Elder Meeting
DESCRIPTION:
URL:https://oscochurch.org/event/elder-meeting/
LOCATION:311 Main Street\, Osco\, IL\, 61274\, United States
CATEGORIES:Staff/Office
ORGANIZER;CN="Osco Community Church":MAILTO:office@oscochurch.org
END:VEVENT
BEGIN:VEVENT
DTSTART;TZID=America/Chicago:20260505T090000
DTEND;TZID=America/Chicago:20260505T110000
DTSTAMP:20260421T130539
CREATED:20241127T161230Z
LAST-MODIFIED:20260326T160831Z
UID:5481-1777971600-1777978800@oscochurch.org
SUMMARY:Staff Meeting
DESCRIPTION:
URL:https://oscochurch.org/event/staff-meeting-13/
LOCATION:311 Main Street\, Osco\, IL\, 61274\, United States
CATEGORIES:Staff/Office
ORGANIZER;CN="Osco Community Church":MAILTO:office@oscochurch.org
END:VEVENT
BEGIN:VEVENT
DTSTART;TZID=America/Chicago:20260512T090000
DTEND;TZID=America/Chicago:20260512T110000
DTSTAMP:20260421T130539
CREATED:20241127T161918Z
LAST-MODIFIED:20260326T160854Z
UID:5489-1778576400-1778583600@oscochurch.org
SUMMARY:Staff Meeting
DESCRIPTION:
URL:https://oscochurch.org/event/staff-meeting-14/
LOCATION:311 Main Street\, Osco\, IL\, 61274\, United States
CATEGORIES:Staff/Office
ORGANIZER;CN="Osco Community Church":MAILTO:office@oscochurch.org
END:VEVENT
BEGIN:VEVENT
DTSTART;TZID=America/Chicago:20260517T103000
DTEND;TZID=America/Chicago:20260517T113000
DTSTAMP:20260421T130539
CREATED:20250108T175850Z
LAST-MODIFIED:20260420T184712Z
UID:5577-1779013800-1779017400@oscochurch.org
SUMMARY:Get to Know OCC
DESCRIPTION:If you’ve recently started attending OCC\, we’d love to get to know you more and have you get to know us more\, too! Join us for some refreshments\, the opportunity to meet some our elders and their wives\, and learn more about OCC on Sunday\, May 17th during the Sunday School hour! We will be meeting in the blue room next to the gym. \nIf you have any questions\, please see Pastor Paul.
URL:https://oscochurch.org/event/get-to-know-occ/
LOCATION:311 Main Street\, Osco\, IL\, 61274\, United States
CATEGORIES:Staff/Office
ORGANIZER;CN="Osco Community Church":MAILTO:office@oscochurch.org
END:VEVENT
BEGIN:VEVENT
DTSTART;TZID=America/Chicago:20260518T120000
DTEND;TZID=America/Chicago:20260518T123000
DTSTAMP:20260421T130539
CREATED:20240808T165017Z
LAST-MODIFIED:20260326T161812Z
UID:5172-1779105600-1779107400@oscochurch.org
SUMMARY:TORCH Items due to Office
DESCRIPTION:
URL:https://oscochurch.org/event/torch-items-due-to-office/
LOCATION:311 Main Street\, Osco\, IL\, 61274\, United States
CATEGORIES:Staff/Office
ORGANIZER;CN="Osco Community Church":MAILTO:office@oscochurch.org
END:VEVENT
BEGIN:VEVENT
DTSTART;TZID=America/Chicago:20260519T090000
DTEND;TZID=America/Chicago:20260519T110000
DTSTAMP:20260421T130539
CREATED:20250821T160454Z
LAST-MODIFIED:20260326T160912Z
UID:6113-1779181200-1779188400@oscochurch.org
SUMMARY:Staff Meeting
DESCRIPTION:
URL:https://oscochurch.org/event/staff-meeting-6/
LOCATION:311 Main Street\, Osco\, IL\, 61274\, United States
CATEGORIES:Staff/Office
ORGANIZER;CN="Osco Community Church":MAILTO:office@oscochurch.org
END:VEVENT
BEGIN:VEVENT
DTSTART;VALUE=DATE:20260525
DTEND;VALUE=DATE:20260526
DTSTAMP:20260421T130539
CREATED:20241127T161712Z
LAST-MODIFIED:20260326T162237Z
UID:5485-1779667200-1779753599@oscochurch.org
SUMMARY:Offices Closed
DESCRIPTION:
URL:https://oscochurch.org/event/offices-closed-3/
LOCATION:311 Main Street\, Osco\, IL\, 61274\, United States
CATEGORIES:Staff/Office
ORGANIZER;CN="Osco Community Church":MAILTO:office@oscochurch.org
END:VEVENT
BEGIN:VEVENT
DTSTART;TZID=America/Chicago:20260526T090000
DTEND;TZID=America/Chicago:20260526T110000
DTSTAMP:20260421T130539
CREATED:20250815T161257Z
LAST-MODIFIED:20260326T160933Z
UID:6098-1779786000-1779793200@oscochurch.org
SUMMARY:Staff Meeting
DESCRIPTION:
URL:https://oscochurch.org/event/staff-meeting-5/
LOCATION:311 Main Street\, Osco\, IL\, 61274\, United States
CATEGORIES:Staff/Office
ORGANIZER;CN="Osco Community Church":MAILTO:office@oscochurch.org
END:VEVENT
BEGIN:VEVENT
DTSTART;TZID=America/Chicago:20260602T090000
DTEND;TZID=America/Chicago:20260602T110000
DTSTAMP:20260421T130539
CREATED:20250825T175559Z
LAST-MODIFIED:20260326T162628Z
UID:6133-1780390800-1780398000@oscochurch.org
SUMMARY:Staff Meeting
DESCRIPTION:
URL:https://oscochurch.org/event/staff-meeting-8/
LOCATION:311 Main Street\, Osco\, IL\, 61274\, United States
CATEGORIES:Staff/Office
ORGANIZER;CN="Osco Community Church":MAILTO:office@oscochurch.org
END:VEVENT
BEGIN:VEVENT
DTSTART;TZID=America/Chicago:20260609T090000
DTEND;TZID=America/Chicago:20260609T110000
DTSTAMP:20260421T130539
CREATED:20260128T173358Z
LAST-MODIFIED:20260409T163019Z
UID:6435-1780995600-1781002800@oscochurch.org
SUMMARY:Staff Meeting
DESCRIPTION:
URL:https://oscochurch.org/event/staff-meeting-3/
LOCATION:311 Main Street\, Osco\, IL\, 61274\, United States
CATEGORIES:Staff/Office
ORGANIZER;CN="Osco Community Church":MAILTO:office@oscochurch.org
END:VEVENT
BEGIN:VEVENT
DTSTART;TZID=America/Chicago:20260616T090000
DTEND;TZID=America/Chicago:20260616T110000
DTSTAMP:20260421T130539
CREATED:20260128T173711Z
LAST-MODIFIED:20260409T163245Z
UID:6447-1781600400-1781607600@oscochurch.org
SUMMARY:Staff Meeting
DESCRIPTION:
URL:https://oscochurch.org/event/staff-meeting-4/
LOCATION:311 Main Street\, Osco\, IL\, 61274\, United States
CATEGORIES:Staff/Office
ORGANIZER;CN="Osco Community Church":MAILTO:office@oscochurch.org
END:VEVENT
BEGIN:VEVENT
DTSTART;TZID=America/Chicago:20260619T120000
DTEND;TZID=America/Chicago:20260619T123000
DTSTAMP:20260421T130539
CREATED:20240913T150319Z
LAST-MODIFIED:20260409T163348Z
UID:5292-1781870400-1781872200@oscochurch.org
SUMMARY:TORCH Items due to Office
DESCRIPTION:
URL:https://oscochurch.org/event/torch-items-due-to-office-2/
LOCATION:311 Main Street\, Osco\, IL\, 61274\, United States
CATEGORIES:Staff/Office
ORGANIZER;CN="Osco Community Church":MAILTO:office@oscochurch.org
END:VEVENT
BEGIN:VEVENT
DTSTART;TZID=America/Chicago:20260623T090000
DTEND;TZID=America/Chicago:20260623T110000
DTSTAMP:20260421T130539
CREATED:20260128T173935Z
LAST-MODIFIED:20260409T163510Z
UID:6456-1782205200-1782212400@oscochurch.org
SUMMARY:Staff Meeting
DESCRIPTION:
URL:https://oscochurch.org/event/staff-meeting-9/
LOCATION:311 Main Street\, Osco\, IL\, 61274\, United States
CATEGORIES:Staff/Office
ORGANIZER;CN="Osco Community Church":MAILTO:office@oscochurch.org
END:VEVENT
END:VCALENDAR