BEGIN:VCALENDAR
VERSION:2.0
PRODID:-//Osco Community Church - ECPv6.15.20//NONSGML v1.0//EN
CALSCALE:GREGORIAN
METHOD:PUBLISH
X-ORIGINAL-URL:https://oscochurch.org
X-WR-CALDESC:Events for Osco Community Church
REFRESH-INTERVAL;VALUE=DURATION:PT1H
X-Robots-Tag:noindex
X-PUBLISHED-TTL:PT1H
BEGIN:VTIMEZONE
TZID:America/Chicago
BEGIN:DAYLIGHT
TZOFFSETFROM:-0600
TZOFFSETTO:-0500
TZNAME:CDT
DTSTART:20240310T080000
END:DAYLIGHT
BEGIN:STANDARD
TZOFFSETFROM:-0500
TZOFFSETTO:-0600
TZNAME:CST
DTSTART:20241103T070000
END:STANDARD
BEGIN:DAYLIGHT
TZOFFSETFROM:-0600
TZOFFSETTO:-0500
TZNAME:CDT
DTSTART:20250309T080000
END:DAYLIGHT
BEGIN:STANDARD
TZOFFSETFROM:-0500
TZOFFSETTO:-0600
TZNAME:CST
DTSTART:20251102T070000
END:STANDARD
BEGIN:DAYLIGHT
TZOFFSETFROM:-0600
TZOFFSETTO:-0500
TZNAME:CDT
DTSTART:20260308T080000
END:DAYLIGHT
BEGIN:STANDARD
TZOFFSETFROM:-0500
TZOFFSETTO:-0600
TZNAME:CST
DTSTART:20261101T070000
END:STANDARD
END:VTIMEZONE
BEGIN:VEVENT
DTSTART;TZID=America/Chicago:20251116T103000
DTEND;TZID=America/Chicago:20251116T104500
DTSTAMP:20260421T063805
CREATED:20251110T172812Z
LAST-MODIFIED:20251110T172812Z
UID:6285-1763289000-1763289900@oscochurch.org
SUMMARY:Christmas Choir Practice
DESCRIPTION:Join us for Christmas choir!  We are singing Christmastime by Michael W Smith.  Practices will be IMMEDIATELY after morning service for 10-15 minutes starting on 11/16.  This is a relatively easy piece and in order to facilitate practice for everyone\, we are trying this schedule.  We will sing during the morning service on 12/14.  Also\, as a treat\, we will have the little people singing part of this song! \nFor more information\, please reach out to Chris Allen or Heidi Hoste.  Thanks!
URL:https://oscochurch.org/event/christmas-choir-practice/
CATEGORIES:Staff/Office
END:VEVENT
BEGIN:VEVENT
DTSTART;TZID=America/Chicago:20251025T090000
DTEND;TZID=America/Chicago:20251025T120000
DTSTAMP:20260421T063805
CREATED:20250318T152658Z
LAST-MODIFIED:20250925T185514Z
UID:5757-1761382800-1761393600@oscochurch.org
SUMMARY:Snook Baby Shower
DESCRIPTION:Join us for a Baby Shower honoring Laney Baylor and baby Baylor on Saturday\, October 25th starting at 9 am at Osco Community Church. \nPlease see Robin Tuttle\, Diana Wallace\, or Megan Kelley if you would like to be included in a group gift by October 19th.
URL:https://oscochurch.org/event/a-redecker-baby-shower/
LOCATION:311 Main Street\, Osco\, IL\, 61274\, United States
CATEGORIES:Staff/Office
ORGANIZER;CN="Osco Community Church":MAILTO:office@oscochurch.org
END:VEVENT
BEGIN:VEVENT
DTSTART;TZID=America/Chicago:20251011T083000
DTEND;TZID=America/Chicago:20251011T120000
DTSTAMP:20260421T063805
CREATED:20240905T193751Z
LAST-MODIFIED:20250926T161643Z
UID:5264-1760171400-1760184000@oscochurch.org
SUMMARY:New Members Class
DESCRIPTION:Join us for a New Members Class on Saturday\, October 11th from 8:30 AM – Noon PM\nSign up at the Information Center if you plan on attending.
URL:https://oscochurch.org/event/new-members-class/
LOCATION:311 Main Street\, Osco\, IL\, 61274\, United States
CATEGORIES:Staff/Office
ORGANIZER;CN="Osco Community Church":MAILTO:office@oscochurch.org
END:VEVENT
BEGIN:VEVENT
DTSTART;TZID=America/Chicago:20250907T163000
DTEND;TZID=America/Chicago:20250907T200000
DTSTAMP:20260421T063805
CREATED:20230824T000420Z
LAST-MODIFIED:20250813T152716Z
UID:3178-1757262600-1757275200@oscochurch.org
SUMMARY:OCC Church Fall Potluck
DESCRIPTION:Join us for an OCC Church Fall Potluck at the Snook’s home in Cambridge starting at 4:30 pm!! We would love to have the entire church family join us for this evening of fun and fellowship! Please bring a meat/main dish and side dish to share! Table service and beverages will be provided. For more information\, contact the church office.
URL:https://oscochurch.org/event/occ-church-fall-potluck-2/
LOCATION:11742 IL Highway 81\, Cambridge\, IL\, 61238\, United States
CATEGORIES:Outreach Ministry,Staff/Office
ORGANIZER;CN="Osco Community Church":MAILTO:office@oscochurch.org
END:VEVENT
BEGIN:VEVENT
DTSTART;TZID=America/Chicago:20250725T144500
DTEND;TZID=America/Chicago:20250725T160000
DTSTAMP:20260421T063805
CREATED:20250611T162044Z
LAST-MODIFIED:20250611T162044Z
UID:5962-1753454700-1753459200@oscochurch.org
SUMMARY:RFKC Camp Returns
DESCRIPTION:
URL:https://oscochurch.org/event/rfkc-camp-returns/
LOCATION:311 Main Street\, Osco\, IL\, 61274\, United States
CATEGORIES:Outreach Ministry,Staff/Office
END:VEVENT
BEGIN:VEVENT
DTSTART;VALUE=DATE:20250725
DTEND;VALUE=DATE:20250726
DTSTAMP:20260421T063805
CREATED:20250407T193409Z
LAST-MODIFIED:20250407T193409Z
UID:5818-1753401600-1753487999@oscochurch.org
SUMMARY:Royal Family Kids Camp
DESCRIPTION:
URL:https://oscochurch.org/event/royal-family-kids-camp-5/
CATEGORIES:Outreach Ministry,Staff/Office
END:VEVENT
BEGIN:VEVENT
DTSTART;VALUE=DATE:20250724
DTEND;VALUE=DATE:20250725
DTSTAMP:20260421T063805
CREATED:20250407T193351Z
LAST-MODIFIED:20250407T193351Z
UID:5816-1753315200-1753401599@oscochurch.org
SUMMARY:Royal Family Kids Camp
DESCRIPTION:
URL:https://oscochurch.org/event/royal-family-kids-camp-4/
CATEGORIES:Outreach Ministry,Staff/Office
END:VEVENT
BEGIN:VEVENT
DTSTART;VALUE=DATE:20250723
DTEND;VALUE=DATE:20250724
DTSTAMP:20260421T063805
CREATED:20240610T172524Z
LAST-MODIFIED:20250407T193221Z
UID:4217-1753228800-1753315199@oscochurch.org
SUMMARY:Royal Family Kids Camp
DESCRIPTION:
URL:https://oscochurch.org/event/royal-family-kids-camp-3/
CATEGORIES:Outreach Ministry,Staff/Office
END:VEVENT
BEGIN:VEVENT
DTSTART;VALUE=DATE:20250722
DTEND;VALUE=DATE:20250723
DTSTAMP:20260421T063805
CREATED:20240610T172200Z
LAST-MODIFIED:20250407T193144Z
UID:4215-1753142400-1753228799@oscochurch.org
SUMMARY:Royal Family Kids Camp
DESCRIPTION:
URL:https://oscochurch.org/event/royal-family-kids-camp-2/
CATEGORIES:Outreach Ministry,Staff/Office
END:VEVENT
BEGIN:VEVENT
DTSTART;TZID=America/Chicago:20250721T083000
DTEND;TZID=America/Chicago:20250721T090000
DTSTAMP:20260421T063805
CREATED:20250611T161919Z
LAST-MODIFIED:20250611T161919Z
UID:5960-1753086600-1753088400@oscochurch.org
SUMMARY:RFKC Registration
DESCRIPTION:
URL:https://oscochurch.org/event/rfkc-registration/
LOCATION:311 Main Street\, Osco\, IL\, 61274\, United States
CATEGORIES:Outreach Ministry,Staff/Office
END:VEVENT
BEGIN:VEVENT
DTSTART;VALUE=DATE:20250721
DTEND;VALUE=DATE:20250722
DTSTAMP:20260421T063805
CREATED:20240610T172036Z
LAST-MODIFIED:20250407T193106Z
UID:4213-1753056000-1753142399@oscochurch.org
SUMMARY:Royal Family Kids Camp
DESCRIPTION:
URL:https://oscochurch.org/event/royal-family-kids-camp/
CATEGORIES:Outreach Ministry,Staff/Office
END:VEVENT
BEGIN:VEVENT
DTSTART;TZID=America/Chicago:20250629T140000
DTEND;TZID=America/Chicago:20250629T170000
DTSTAMP:20260421T063805
CREATED:20250318T152055Z
LAST-MODIFIED:20250609T153715Z
UID:5754-1751205600-1751216400@oscochurch.org
SUMMARY:A Wallace Bridal Shower
DESCRIPTION:Join us for a Bridal Shower honoring Audrey Wallace on Sunday\, June 29th at 2 pm at Osco Community Church. \nPlease RSVP by text to Chris Wells by June 22nd if you are planning on attending. \nOnline gifts can be purchased through TheKnot.com for Audrey – (please mail to the bride’s address).\nIf you would like to be included in a group gift\, please contact Robin Tuttle by June 22nd.
URL:https://oscochurch.org/event/t-thomas-bridal-shower/
LOCATION:311 Main Street\, Osco\, IL\, 61274\, United States
CATEGORIES:Staff/Office
ORGANIZER;CN="Osco Community Church":MAILTO:office@oscochurch.org
END:VEVENT
BEGIN:VEVENT
DTSTART;TZID=America/Chicago:20250622T170000
DTEND;TZID=America/Chicago:20250622T200000
DTSTAMP:20260421T063805
CREATED:20240425T145155Z
LAST-MODIFIED:20250623T170249Z
UID:4031-1750611600-1750622400@oscochurch.org
SUMMARY:OCC All-Church Potluck/Kickball in the Park - Cancelled to due to extreme heat warning
DESCRIPTION:Join us for an OCC All-Church Potluck/Kickball in the Park!! The Potluck will be held at Andover Park in Andover. We would love to have the entire church family join us for this evening of fun and fellowship! For more information\, contact the church office.
URL:https://oscochurch.org/event/occ-all-church-potluck-kickball-in-the-park-3/
CATEGORIES:Outreach Ministry,Staff/Office
ORGANIZER;CN="Osco Community Church":MAILTO:office@oscochurch.org
END:VEVENT
BEGIN:VEVENT
DTSTART;TZID=America/Chicago:20250614T120000
DTEND;TZID=America/Chicago:20250614T160000
DTSTAMP:20260421T063805
CREATED:20250501T185017Z
LAST-MODIFIED:20250612T164040Z
UID:5902-1749902400-1749916800@oscochurch.org
SUMMARY:Vedvik Graduation Party
DESCRIPTION:The church family is invited to a Graduation Party for B & T Vedvik on Saturday\, June 14th from Noon to 4 pm at the the large pavilion in Indian Bluff Golf Course\, Milan\, IL. \nMark your calendar! Hope you can join us!
URL:https://oscochurch.org/event/vedvik-graduation-party/
CATEGORIES:Staff/Office
END:VEVENT
BEGIN:VEVENT
DTSTART;TZID=America/Chicago:20250517T160000
DTEND;TZID=America/Chicago:20250517T200000
DTSTAMP:20260421T063805
CREATED:20240426T164851Z
LAST-MODIFIED:20250425T163919Z
UID:4064-1747497600-1747512000@oscochurch.org
SUMMARY:Snook Graduation Party
DESCRIPTION:The church family is invited to a Graduation Party for T Snook on Saturday\, May 17th from 4 to 8 pm at the Snook home in Cambridge. \nMark your calendar! Hope you can join us!
URL:https://oscochurch.org/event/snook-graduation-party/
CATEGORIES:Staff/Office
END:VEVENT
END:VCALENDAR