BEGIN:VCALENDAR
VERSION:2.0
PRODID:-//Osco Community Church - ECPv6.15.20//NONSGML v1.0//EN
CALSCALE:GREGORIAN
METHOD:PUBLISH
X-ORIGINAL-URL:https://oscochurch.org
X-WR-CALDESC:Events for Osco Community Church
REFRESH-INTERVAL;VALUE=DURATION:PT1H
X-Robots-Tag:noindex
X-PUBLISHED-TTL:PT1H
BEGIN:VTIMEZONE
TZID:America/Chicago
BEGIN:DAYLIGHT
TZOFFSETFROM:-0600
TZOFFSETTO:-0500
TZNAME:CDT
DTSTART:20240310T080000
END:DAYLIGHT
BEGIN:STANDARD
TZOFFSETFROM:-0500
TZOFFSETTO:-0600
TZNAME:CST
DTSTART:20241103T070000
END:STANDARD
BEGIN:DAYLIGHT
TZOFFSETFROM:-0600
TZOFFSETTO:-0500
TZNAME:CDT
DTSTART:20250309T080000
END:DAYLIGHT
BEGIN:STANDARD
TZOFFSETFROM:-0500
TZOFFSETTO:-0600
TZNAME:CST
DTSTART:20251102T070000
END:STANDARD
BEGIN:DAYLIGHT
TZOFFSETFROM:-0600
TZOFFSETTO:-0500
TZNAME:CDT
DTSTART:20260308T080000
END:DAYLIGHT
BEGIN:STANDARD
TZOFFSETFROM:-0500
TZOFFSETTO:-0600
TZNAME:CST
DTSTART:20261101T070000
END:STANDARD
BEGIN:DAYLIGHT
TZOFFSETFROM:-0600
TZOFFSETTO:-0500
TZNAME:CDT
DTSTART:20270314T080000
END:DAYLIGHT
BEGIN:STANDARD
TZOFFSETFROM:-0500
TZOFFSETTO:-0600
TZNAME:CST
DTSTART:20271107T070000
END:STANDARD
END:VTIMEZONE
BEGIN:VEVENT
DTSTART;TZID=America/Chicago:20251025T090000
DTEND;TZID=America/Chicago:20251025T120000
DTSTAMP:20260421T191543
CREATED:20250318T152658Z
LAST-MODIFIED:20250925T185514Z
UID:5757-1761382800-1761393600@oscochurch.org
SUMMARY:Snook Baby Shower
DESCRIPTION:Join us for a Baby Shower honoring Laney Baylor and baby Baylor on Saturday\, October 25th starting at 9 am at Osco Community Church. \nPlease see Robin Tuttle\, Diana Wallace\, or Megan Kelley if you would like to be included in a group gift by October 19th.
URL:https://oscochurch.org/event/a-redecker-baby-shower/
LOCATION:311 Main Street\, Osco\, IL\, 61274\, United States
CATEGORIES:Staff/Office
ORGANIZER;CN="Osco Community Church":MAILTO:office@oscochurch.org
END:VEVENT
BEGIN:VEVENT
DTSTART;TZID=America/Chicago:20251116T103000
DTEND;TZID=America/Chicago:20251116T104500
DTSTAMP:20260421T191543
CREATED:20251110T172812Z
LAST-MODIFIED:20251110T172812Z
UID:6285-1763289000-1763289900@oscochurch.org
SUMMARY:Christmas Choir Practice
DESCRIPTION:Join us for Christmas choir!  We are singing Christmastime by Michael W Smith.  Practices will be IMMEDIATELY after morning service for 10-15 minutes starting on 11/16.  This is a relatively easy piece and in order to facilitate practice for everyone\, we are trying this schedule.  We will sing during the morning service on 12/14.  Also\, as a treat\, we will have the little people singing part of this song! \nFor more information\, please reach out to Chris Allen or Heidi Hoste.  Thanks!
URL:https://oscochurch.org/event/christmas-choir-practice/
CATEGORIES:Staff/Office
END:VEVENT
BEGIN:VEVENT
DTSTART;TZID=America/Chicago:20251123T103000
DTEND;TZID=America/Chicago:20251123T104500
DTSTAMP:20260421T191543
CREATED:20251110T172849Z
LAST-MODIFIED:20251110T172849Z
UID:6287-1763893800-1763894700@oscochurch.org
SUMMARY:Christmas Choir Practice
DESCRIPTION:Join us for Christmas choir!  We are singing Christmastime by Michael W Smith.  Practices will be IMMEDIATELY after morning service for 10-15 minutes starting on 11/16.  This is a relatively easy piece and in order to facilitate practice for everyone\, we are trying this schedule.  We will sing during the morning service on 12/14.  Also\, as a treat\, we will have the little people singing part of this song! \nFor more information\, please reach out to Chris Allen or Heidi Hoste.  Thanks!
URL:https://oscochurch.org/event/christmas-choir-practice-2/
CATEGORIES:Staff/Office
END:VEVENT
BEGIN:VEVENT
DTSTART;VALUE=DATE:20251127
DTEND;VALUE=DATE:20251128
DTSTAMP:20260421T191543
CREATED:20241030T194537Z
LAST-MODIFIED:20250925T190850Z
UID:5416-1764201600-1764287999@oscochurch.org
SUMMARY:Offices Closed
DESCRIPTION:
URL:https://oscochurch.org/event/offices-closed-2/
LOCATION:311 Main Street\, Osco\, IL\, 61274\, United States
CATEGORIES:Staff/Office
ORGANIZER;CN="Osco Community Church":MAILTO:office@oscochurch.org
END:VEVENT
BEGIN:VEVENT
DTSTART;TZID=America/Chicago:20251206T170000
DTEND;TZID=America/Chicago:20251206T190000
DTSTAMP:20260421T191543
CREATED:20231005T003411Z
LAST-MODIFIED:20251016T190352Z
UID:3330-1765040400-1765047600@oscochurch.org
SUMMARY:Cambridge Christmas on the Square
DESCRIPTION:Join us as we share the joy of Jesus from OCC! \nHelp is needed to set up/clean up\, serve cocoa\, hand out gifts or share a smile & a handshake. \nPlease see Doreen or Heidi to volunteer!!
URL:https://oscochurch.org/event/cambridge-christmas-on-the-square-3/
LOCATION:College Square Park\, West Center Street\, Cambridge\, Illinois\, 61238
CATEGORIES:Outreach Ministry,Staff/Office
ORGANIZER;CN="Village of Cambridge":MAILTO:aavocil@gmail.com
END:VEVENT
BEGIN:VEVENT
DTSTART;TZID=America/Chicago:20251207T103000
DTEND;TZID=America/Chicago:20251207T104500
DTSTAMP:20260421T191543
CREATED:20251110T173413Z
LAST-MODIFIED:20251110T173413Z
UID:6291-1765103400-1765104300@oscochurch.org
SUMMARY:Christmas Choir Practice
DESCRIPTION:Join us for Christmas choir!  We are singing Christmastime by Michael W Smith.  Practices will be IMMEDIATELY after morning service for 10-15 minutes starting on 11/16.  This is a relatively easy piece and in order to facilitate practice for everyone\, we are trying this schedule.  We will sing during the morning service on 12/14.  Also\, as a treat\, we will have the little people singing part of this song! \nFor more information\, please reach out to Chris Allen or Heidi Hoste.  Thanks!
URL:https://oscochurch.org/event/christmas-choir-practice-4/
CATEGORIES:Staff/Office
END:VEVENT
BEGIN:VEVENT
DTSTART;TZID=America/Chicago:20251214T113000
DTEND;TZID=America/Chicago:20251214T123000
DTSTAMP:20260421T191543
CREATED:20231005T003923Z
LAST-MODIFIED:20251028T182623Z
UID:3336-1765711800-1765715400@oscochurch.org
SUMMARY:OCC Annual Meeting
DESCRIPTION:
URL:https://oscochurch.org/event/occ-annual-meeting/
LOCATION:311 Main Street\, Osco\, IL\, 61274\, United States
CATEGORIES:Staff/Office
ORGANIZER;CN="Osco Community Church":MAILTO:office@oscochurch.org
END:VEVENT
BEGIN:VEVENT
DTSTART;VALUE=DATE:20251225
DTEND;VALUE=DATE:20251226
DTSTAMP:20260421T191543
CREATED:20241127T161813Z
LAST-MODIFIED:20251016T191011Z
UID:5487-1766620800-1766707199@oscochurch.org
SUMMARY:Offices Closed
DESCRIPTION:
URL:https://oscochurch.org/event/offices-closed-4/
LOCATION:311 Main Street\, Osco\, IL\, 61274\, United States
CATEGORIES:Staff/Office
ORGANIZER;CN="Osco Community Church":MAILTO:office@oscochurch.org
END:VEVENT
BEGIN:VEVENT
DTSTART;VALUE=DATE:20251226
DTEND;VALUE=DATE:20251227
DTSTAMP:20260421T191543
CREATED:20241030T194432Z
LAST-MODIFIED:20251125T173804Z
UID:5414-1766707200-1766793599@oscochurch.org
SUMMARY:Offices Closed
DESCRIPTION:
URL:https://oscochurch.org/event/offices-closed/
LOCATION:311 Main Street\, Osco\, IL\, 61274\, United States
CATEGORIES:Staff/Office
ORGANIZER;CN="Osco Community Church":MAILTO:office@oscochurch.org
END:VEVENT
BEGIN:VEVENT
DTSTART;VALUE=DATE:20260101
DTEND;VALUE=DATE:20260102
DTSTAMP:20260421T191543
CREATED:20241127T162033Z
LAST-MODIFIED:20251016T191042Z
UID:5491-1767225600-1767311999@oscochurch.org
SUMMARY:Offices Closed
DESCRIPTION:
URL:https://oscochurch.org/event/offices-closed-5/
LOCATION:311 Main Street\, Osco\, IL\, 61274\, United States
CATEGORIES:Staff/Office
ORGANIZER;CN="Osco Community Church":MAILTO:office@oscochurch.org
END:VEVENT
BEGIN:VEVENT
DTSTART;TZID=America/Chicago:20260111T170000
DTEND;TZID=America/Chicago:20260111T183000
DTSTAMP:20260421T191543
CREATED:20240830T191448Z
LAST-MODIFIED:20251224T160119Z
UID:5217-1768150800-1768156200@oscochurch.org
SUMMARY:Soup & Prayer
DESCRIPTION:Come for some soup & fellowship followed by a time of prayer. (Soup will be provided!) \nSunday from 5 – 6:30 pm.
URL:https://oscochurch.org/event/soup-prayer-2/
LOCATION:311 Main Street\, Osco\, IL\, 61274\, United States
CATEGORIES:Staff/Office
ORGANIZER;CN="Osco Community Church":MAILTO:office@oscochurch.org
END:VEVENT
BEGIN:VEVENT
DTSTART;VALUE=DATE:20260116
DTEND;VALUE=DATE:20260117
DTSTAMP:20260421T191543
CREATED:20231201T020101Z
LAST-MODIFIED:20251209T170041Z
UID:3579-1768521600-1768607999@oscochurch.org
SUMMARY:Annual Reports due to Church Office
DESCRIPTION:
URL:https://oscochurch.org/event/annual-reports-due-to-church-office-3/
LOCATION:311 Main Street\, Osco\, IL\, 61274\, United States
CATEGORIES:Staff/Office
ORGANIZER;CN="Osco Community Church":MAILTO:office@oscochurch.org
END:VEVENT
BEGIN:VEVENT
DTSTART;TZID=America/Chicago:20260119T183000
DTEND;TZID=America/Chicago:20260119T210000
DTSTAMP:20260421T191543
CREATED:20240814T193530Z
LAST-MODIFIED:20251230T185556Z
UID:5181-1768847400-1768856400@oscochurch.org
SUMMARY:Elder & Ministry Team Leaders Meeting
DESCRIPTION:
URL:https://oscochurch.org/event/elder-ministry-team-leaders-meeting/
LOCATION:311 Main Street\, Osco\, IL\, 61274\, United States
CATEGORIES:Staff/Office
ORGANIZER;CN="Osco Community Church":MAILTO:office@oscochurch.org
END:VEVENT
BEGIN:VEVENT
DTSTART;TZID=America/Chicago:20260215T170000
DTEND;TZID=America/Chicago:20260215T183000
DTSTAMP:20260421T191543
CREATED:20240830T191611Z
LAST-MODIFIED:20260109T162315Z
UID:5220-1771174800-1771180200@oscochurch.org
SUMMARY:Soup & Prayer
DESCRIPTION:Come for some soup & fellowship followed by a time of prayer. (Soup will be provided!) \nSunday from 5 – 6:30 pm.
URL:https://oscochurch.org/event/soup-prayer-3/
LOCATION:311 Main Street\, Osco\, IL\, 61274\, United States
CATEGORIES:Staff/Office
ORGANIZER;CN="Osco Community Church":MAILTO:office@oscochurch.org
END:VEVENT
BEGIN:VEVENT
DTSTART;TZID=America/Chicago:20260216T183000
DTEND;TZID=America/Chicago:20260216T210000
DTSTAMP:20260421T191543
CREATED:20260107T201709Z
LAST-MODIFIED:20260107T201709Z
UID:6381-1771266600-1771275600@oscochurch.org
SUMMARY:Elder Meeting
DESCRIPTION:
URL:https://oscochurch.org/event/elder-meeting-4/
LOCATION:311 Main Street\, Osco\, IL\, 61274\, United States
CATEGORIES:Staff/Office
ORGANIZER;CN="Osco Community Church":MAILTO:office@oscochurch.org
END:VEVENT
BEGIN:VEVENT
DTSTART;TZID=America/Chicago:20260308T170000
DTEND;TZID=America/Chicago:20260308T183000
DTSTAMP:20260421T191543
CREATED:20250925T190615Z
LAST-MODIFIED:20251224T160343Z
UID:6204-1772989200-1772994600@oscochurch.org
SUMMARY:Soup & Prayer
DESCRIPTION:Come for some soup & fellowship followed by a time of prayer. (Soup will be provided!) \nSunday from 5 – 6:30 pm.
URL:https://oscochurch.org/event/soup-prayer/
LOCATION:311 Main Street\, Osco\, IL\, 61274\, United States
CATEGORIES:Staff/Office
ORGANIZER;CN="Osco Community Church":MAILTO:office@oscochurch.org
END:VEVENT
BEGIN:VEVENT
DTSTART;TZID=America/Chicago:20260320T160000
DTEND;TZID=America/Chicago:20260320T190000
DTSTAMP:20260421T191543
CREATED:20260203T183256Z
LAST-MODIFIED:20260203T183358Z
UID:6467-1774022400-1774033200@oscochurch.org
SUMMARY:OCC Spring Clean-Up
DESCRIPTION:Food will be provided
URL:https://oscochurch.org/event/occ-spring-clean-up/
LOCATION:311 Main Street\, Osco\, IL\, 61274\, United States
CATEGORIES:Facilities,Staff/Office
ORGANIZER;CN="Osco Community Church":MAILTO:office@oscochurch.org
END:VEVENT
BEGIN:VEVENT
DTSTART;TZID=America/Chicago:20260321T080000
DTEND;TZID=America/Chicago:20260321T110000
DTSTAMP:20260421T191543
CREATED:20260203T183506Z
LAST-MODIFIED:20260203T184111Z
UID:6470-1774080000-1774090800@oscochurch.org
SUMMARY:OCC Spring Clean-Up
DESCRIPTION:Food will be provided
URL:https://oscochurch.org/event/occ-spring-clean-up-2/
LOCATION:311 Main Street\, Osco\, IL\, 61274\, United States
CATEGORIES:Facilities,Staff/Office
ORGANIZER;CN="Osco Community Church":MAILTO:office@oscochurch.org
END:VEVENT
BEGIN:VEVENT
DTSTART;TZID=America/Chicago:20260324T183000
DTEND;TZID=America/Chicago:20260324T210000
DTSTAMP:20260421T191543
CREATED:20260203T183105Z
LAST-MODIFIED:20260203T183105Z
UID:6465-1774377000-1774386000@oscochurch.org
SUMMARY:Elder Meeting
DESCRIPTION:
URL:https://oscochurch.org/event/elder-meeting-5/
LOCATION:311 Main Street\, Osco\, IL\, 61274\, United States
CATEGORIES:Staff/Office
ORGANIZER;CN="Osco Community Church":MAILTO:office@oscochurch.org
END:VEVENT
BEGIN:VEVENT
DTSTART;TZID=America/Chicago:20260403T180000
DTEND;TZID=America/Chicago:20260403T190000
DTSTAMP:20260421T191543
CREATED:20240306T182336Z
LAST-MODIFIED:20260224T173637Z
UID:3895-1775239200-1775242800@oscochurch.org
SUMMARY:Good Friday Service
DESCRIPTION:
URL:https://oscochurch.org/event/good-friday-service-3/
LOCATION:311 Main Street\, Osco\, IL\, 61274\, United States
CATEGORIES:Staff/Office
ORGANIZER;CN="Osco Community Church":MAILTO:office@oscochurch.org
END:VEVENT
BEGIN:VEVENT
DTSTART;VALUE=DATE:20260406
DTEND;VALUE=DATE:20260407
DTSTAMP:20260421T191543
CREATED:20250925T191300Z
LAST-MODIFIED:20260128T174009Z
UID:6208-1775433600-1775519999@oscochurch.org
SUMMARY:Offices Closed
DESCRIPTION:
URL:https://oscochurch.org/event/offices-closed-6/
LOCATION:311 Main Street\, Osco\, IL\, 61274\, United States
CATEGORIES:Staff/Office
ORGANIZER;CN="Osco Community Church":MAILTO:office@oscochurch.org
END:VEVENT
BEGIN:VEVENT
DTSTART;TZID=America/Chicago:20260406T183000
DTEND;TZID=America/Chicago:20260406T210000
DTSTAMP:20260421T191543
CREATED:20251205T172908Z
LAST-MODIFIED:20260310T193811Z
UID:6327-1775500200-1775509200@oscochurch.org
SUMMARY:Elder Meeting
DESCRIPTION:
URL:https://oscochurch.org/event/elder-meeting-3/
LOCATION:311 Main Street\, Osco\, IL\, 61274\, United States
CATEGORIES:Staff/Office
ORGANIZER;CN="Osco Community Church":MAILTO:office@oscochurch.org
END:VEVENT
BEGIN:VEVENT
DTSTART;TZID=America/Chicago:20260407T090000
DTEND;TZID=America/Chicago:20260407T110000
DTSTAMP:20260421T191543
CREATED:20240830T192524Z
LAST-MODIFIED:20260213T172824Z
UID:5227-1775552400-1775559600@oscochurch.org
SUMMARY:Staff Meeting
DESCRIPTION:
URL:https://oscochurch.org/event/staff-meeting-2/
LOCATION:311 Main Street\, Osco\, IL\, 61274\, United States
CATEGORIES:Staff/Office
ORGANIZER;CN="Osco Community Church":MAILTO:office@oscochurch.org
END:VEVENT
BEGIN:VEVENT
DTSTART;TZID=America/Chicago:20260414T090000
DTEND;TZID=America/Chicago:20260414T110000
DTSTAMP:20260421T191543
CREATED:20250326T165135Z
LAST-MODIFIED:20260213T173328Z
UID:5766-1776157200-1776164400@oscochurch.org
SUMMARY:Staff Meeting
DESCRIPTION:
URL:https://oscochurch.org/event/staff-meeting-7/
LOCATION:311 Main Street\, Osco\, IL\, 61274\, United States
CATEGORIES:Staff/Office
ORGANIZER;CN="Osco Community Church":MAILTO:office@oscochurch.org
END:VEVENT
BEGIN:VEVENT
DTSTART;TZID=America/Chicago:20260420T120000
DTEND;TZID=America/Chicago:20260420T123000
DTSTAMP:20260421T191543
CREATED:20250515T150337Z
LAST-MODIFIED:20260213T173552Z
UID:5926-1776686400-1776688200@oscochurch.org
SUMMARY:TORCH Items due to Office
DESCRIPTION:
URL:https://oscochurch.org/event/torch-items-due-to-office-3/
LOCATION:311 Main Street\, Osco\, IL\, 61274\, United States
CATEGORIES:Staff/Office
ORGANIZER;CN="Osco Community Church":MAILTO:office@oscochurch.org
END:VEVENT
BEGIN:VEVENT
DTSTART;TZID=America/Chicago:20260420T190000
DTEND;TZID=America/Chicago:20260420T213000
DTSTAMP:20260421T191543
CREATED:20260107T200828Z
LAST-MODIFIED:20260310T193904Z
UID:6379-1776711600-1776720600@oscochurch.org
SUMMARY:Elder Meeting
DESCRIPTION:
URL:https://oscochurch.org/event/elder-meeting-2/
LOCATION:311 Main Street\, Osco\, IL\, 61274\, United States
CATEGORIES:Staff/Office
ORGANIZER;CN="Osco Community Church":MAILTO:office@oscochurch.org
END:VEVENT
BEGIN:VEVENT
DTSTART;TZID=America/Chicago:20260421T090000
DTEND;TZID=America/Chicago:20260421T110000
DTSTAMP:20260421T191543
CREATED:20240808T164658Z
LAST-MODIFIED:20260213T173706Z
UID:5166-1776762000-1776769200@oscochurch.org
SUMMARY:Staff Meeting
DESCRIPTION:
URL:https://oscochurch.org/event/staff-meeting/
LOCATION:311 Main Street\, Osco\, IL\, 61274\, United States
CATEGORIES:Staff/Office
ORGANIZER;CN="Osco Community Church":MAILTO:office@oscochurch.org
END:VEVENT
BEGIN:VEVENT
DTSTART;TZID=America/Chicago:20260428T090000
DTEND;TZID=America/Chicago:20260428T110000
DTSTAMP:20260421T191543
CREATED:20260213T174010Z
LAST-MODIFIED:20260213T174010Z
UID:6491-1777366800-1777374000@oscochurch.org
SUMMARY:Staff Meeting
DESCRIPTION:
URL:https://oscochurch.org/event/staff-meeting-10/
LOCATION:311 Main Street\, Osco\, IL\, 61274\, United States
CATEGORIES:Staff/Office
ORGANIZER;CN="Osco Community Church":MAILTO:office@oscochurch.org
END:VEVENT
BEGIN:VEVENT
DTSTART;TZID=America/Chicago:20260429T183000
DTEND;TZID=America/Chicago:20260429T210000
DTSTAMP:20260421T191543
CREATED:20241028T185920Z
LAST-MODIFIED:20260420T184831Z
UID:5381-1777487400-1777496400@oscochurch.org
SUMMARY:Elder Meeting
DESCRIPTION:
URL:https://oscochurch.org/event/elder-meeting/
LOCATION:311 Main Street\, Osco\, IL\, 61274\, United States
CATEGORIES:Staff/Office
ORGANIZER;CN="Osco Community Church":MAILTO:office@oscochurch.org
END:VEVENT
BEGIN:VEVENT
DTSTART;TZID=America/Chicago:20260505T090000
DTEND;TZID=America/Chicago:20260505T110000
DTSTAMP:20260421T191543
CREATED:20241127T161230Z
LAST-MODIFIED:20260326T160831Z
UID:5481-1777971600-1777978800@oscochurch.org
SUMMARY:Staff Meeting
DESCRIPTION:
URL:https://oscochurch.org/event/staff-meeting-13/
LOCATION:311 Main Street\, Osco\, IL\, 61274\, United States
CATEGORIES:Staff/Office
ORGANIZER;CN="Osco Community Church":MAILTO:office@oscochurch.org
END:VEVENT
END:VCALENDAR