BEGIN:VCALENDAR
VERSION:2.0
PRODID:-//Osco Community Church - ECPv6.15.20//NONSGML v1.0//EN
CALSCALE:GREGORIAN
METHOD:PUBLISH
X-WR-CALNAME:Osco Community Church
X-ORIGINAL-URL:https://oscochurch.org
X-WR-CALDESC:Events for Osco Community Church
REFRESH-INTERVAL;VALUE=DURATION:PT1H
X-Robots-Tag:noindex
X-PUBLISHED-TTL:PT1H
BEGIN:VTIMEZONE
TZID:America/Chicago
BEGIN:DAYLIGHT
TZOFFSETFROM:-0600
TZOFFSETTO:-0500
TZNAME:CDT
DTSTART:20250309T080000
END:DAYLIGHT
BEGIN:STANDARD
TZOFFSETFROM:-0500
TZOFFSETTO:-0600
TZNAME:CST
DTSTART:20251102T070000
END:STANDARD
BEGIN:DAYLIGHT
TZOFFSETFROM:-0600
TZOFFSETTO:-0500
TZNAME:CDT
DTSTART:20260308T080000
END:DAYLIGHT
BEGIN:STANDARD
TZOFFSETFROM:-0500
TZOFFSETTO:-0600
TZNAME:CST
DTSTART:20261101T070000
END:STANDARD
BEGIN:DAYLIGHT
TZOFFSETFROM:-0600
TZOFFSETTO:-0500
TZNAME:CDT
DTSTART:20270314T080000
END:DAYLIGHT
BEGIN:STANDARD
TZOFFSETFROM:-0500
TZOFFSETTO:-0600
TZNAME:CST
DTSTART:20271107T070000
END:STANDARD
END:VTIMEZONE
BEGIN:VEVENT
DTSTART;TZID=America/Chicago:20260516T070000
DTEND;TZID=America/Chicago:20260516T081500
DTSTAMP:20260421T151923
CREATED:20260326T150423Z
LAST-MODIFIED:20260326T150423Z
UID:6598-1778914800-1778919300@oscochurch.org
SUMMARY:Men's Ministry Huddle Bible Study
DESCRIPTION:Join the men of Osco Community Church as they study Betterman 11-week Bible study. \nThey meet weekly with 2 options: Mondays 7-8:15 PM – Starts April 13th or Saturdays 7-8:15 AM – Starts April 18th. \nSign up at the Information Center (Please let us know if you prefer Mondays or Saturdays\, & if you would be willing to facilitate discussion\, host\, or provide food.) \nFree and open to ALL Men of OCC!! \nFor more information\, contact Pastor Paul.
URL:https://oscochurch.org/event/mens-ministry-huddle-bible-study-16/
LOCATION:311 Main Street\, Osco\, IL\, 61274\, United States
CATEGORIES:Men's Ministry
ORGANIZER;CN="Osco Community Church":MAILTO:office@oscochurch.org
END:VEVENT
BEGIN:VEVENT
DTSTART;TZID=America/Chicago:20260518T190000
DTEND;TZID=America/Chicago:20260518T201500
DTSTAMP:20260421T151923
CREATED:20260326T145914Z
LAST-MODIFIED:20260326T145914Z
UID:6578-1779130800-1779135300@oscochurch.org
SUMMARY:Men's Ministry Huddle Bible Study
DESCRIPTION:Join the men of Osco Community Church as they study Betterman 11-week Bible study. \nThey meet weekly with 2 options: Mondays 7-8:15 PM – Starts April 13th or Saturdays 7-8:15 AM – Starts April 18th. \nSign up at the Information Center (Please let us know if you prefer Mondays or Saturdays\, & if you would be willing to facilitate discussion\, host\, or provide food.) \nFree and open to ALL Men of OCC!! \nFor more information\, contact Pastor Paul.
URL:https://oscochurch.org/event/mens-ministry-huddle-bible-study-6/
LOCATION:311 Main Street\, Osco\, IL\, 61274\, United States
CATEGORIES:Men's Ministry
ORGANIZER;CN="Osco Community Church":MAILTO:office@oscochurch.org
END:VEVENT
BEGIN:VEVENT
DTSTART;TZID=America/Chicago:20260523T070000
DTEND;TZID=America/Chicago:20260523T081500
DTSTAMP:20260421T151923
CREATED:20260326T150442Z
LAST-MODIFIED:20260326T150442Z
UID:6600-1779519600-1779524100@oscochurch.org
SUMMARY:Men's Ministry Huddle Bible Study
DESCRIPTION:Join the men of Osco Community Church as they study Betterman 11-week Bible study. \nThey meet weekly with 2 options: Mondays 7-8:15 PM – Starts April 13th or Saturdays 7-8:15 AM – Starts April 18th. \nSign up at the Information Center (Please let us know if you prefer Mondays or Saturdays\, & if you would be willing to facilitate discussion\, host\, or provide food.) \nFree and open to ALL Men of OCC!! \nFor more information\, contact Pastor Paul.
URL:https://oscochurch.org/event/mens-ministry-huddle-bible-study-17/
LOCATION:311 Main Street\, Osco\, IL\, 61274\, United States
CATEGORIES:Men's Ministry
ORGANIZER;CN="Osco Community Church":MAILTO:office@oscochurch.org
END:VEVENT
BEGIN:VEVENT
DTSTART;TZID=America/Chicago:20260525T190000
DTEND;TZID=America/Chicago:20260525T201500
DTSTAMP:20260421T151923
CREATED:20260326T145927Z
LAST-MODIFIED:20260326T145927Z
UID:6580-1779735600-1779740100@oscochurch.org
SUMMARY:Men's Ministry Huddle Bible Study
DESCRIPTION:Join the men of Osco Community Church as they study Betterman 11-week Bible study. \nThey meet weekly with 2 options: Mondays 7-8:15 PM – Starts April 13th or Saturdays 7-8:15 AM – Starts April 18th. \nSign up at the Information Center (Please let us know if you prefer Mondays or Saturdays\, & if you would be willing to facilitate discussion\, host\, or provide food.) \nFree and open to ALL Men of OCC!! \nFor more information\, contact Pastor Paul.
URL:https://oscochurch.org/event/mens-ministry-huddle-bible-study-7/
LOCATION:311 Main Street\, Osco\, IL\, 61274\, United States
CATEGORIES:Men's Ministry
ORGANIZER;CN="Osco Community Church":MAILTO:office@oscochurch.org
END:VEVENT
BEGIN:VEVENT
DTSTART;TZID=America/Chicago:20260530T070000
DTEND;TZID=America/Chicago:20260530T081500
DTSTAMP:20260421T151923
CREATED:20260326T150455Z
LAST-MODIFIED:20260326T150455Z
UID:6602-1780124400-1780128900@oscochurch.org
SUMMARY:Men's Ministry Huddle Bible Study
DESCRIPTION:Join the men of Osco Community Church as they study Betterman 11-week Bible study. \nThey meet weekly with 2 options: Mondays 7-8:15 PM – Starts April 13th or Saturdays 7-8:15 AM – Starts April 18th. \nSign up at the Information Center (Please let us know if you prefer Mondays or Saturdays\, & if you would be willing to facilitate discussion\, host\, or provide food.) \nFree and open to ALL Men of OCC!! \nFor more information\, contact Pastor Paul.
URL:https://oscochurch.org/event/mens-ministry-huddle-bible-study-18/
LOCATION:311 Main Street\, Osco\, IL\, 61274\, United States
CATEGORIES:Men's Ministry
ORGANIZER;CN="Osco Community Church":MAILTO:office@oscochurch.org
END:VEVENT
BEGIN:VEVENT
DTSTART;TZID=America/Chicago:20260601T190000
DTEND;TZID=America/Chicago:20260601T201500
DTSTAMP:20260421T151923
CREATED:20260326T145939Z
LAST-MODIFIED:20260326T145939Z
UID:6582-1780340400-1780344900@oscochurch.org
SUMMARY:Men's Ministry Huddle Bible Study
DESCRIPTION:Join the men of Osco Community Church as they study Betterman 11-week Bible study. \nThey meet weekly with 2 options: Mondays 7-8:15 PM – Starts April 13th or Saturdays 7-8:15 AM – Starts April 18th. \nSign up at the Information Center (Please let us know if you prefer Mondays or Saturdays\, & if you would be willing to facilitate discussion\, host\, or provide food.) \nFree and open to ALL Men of OCC!! \nFor more information\, contact Pastor Paul.
URL:https://oscochurch.org/event/mens-ministry-huddle-bible-study-8/
LOCATION:311 Main Street\, Osco\, IL\, 61274\, United States
CATEGORIES:Men's Ministry
ORGANIZER;CN="Osco Community Church":MAILTO:office@oscochurch.org
END:VEVENT
BEGIN:VEVENT
DTSTART;TZID=America/Chicago:20260606T070000
DTEND;TZID=America/Chicago:20260606T081500
DTSTAMP:20260421T151923
CREATED:20260326T150511Z
LAST-MODIFIED:20260326T150511Z
UID:6604-1780729200-1780733700@oscochurch.org
SUMMARY:Men's Ministry Huddle Bible Study
DESCRIPTION:Join the men of Osco Community Church as they study Betterman 11-week Bible study. \nThey meet weekly with 2 options: Mondays 7-8:15 PM – Starts April 13th or Saturdays 7-8:15 AM – Starts April 18th. \nSign up at the Information Center (Please let us know if you prefer Mondays or Saturdays\, & if you would be willing to facilitate discussion\, host\, or provide food.) \nFree and open to ALL Men of OCC!! \nFor more information\, contact Pastor Paul.
URL:https://oscochurch.org/event/mens-ministry-huddle-bible-study-19/
LOCATION:311 Main Street\, Osco\, IL\, 61274\, United States
CATEGORIES:Men's Ministry
ORGANIZER;CN="Osco Community Church":MAILTO:office@oscochurch.org
END:VEVENT
BEGIN:VEVENT
DTSTART;TZID=America/Chicago:20260608T190000
DTEND;TZID=America/Chicago:20260608T201500
DTSTAMP:20260421T151923
CREATED:20260326T145950Z
LAST-MODIFIED:20260326T145950Z
UID:6584-1780945200-1780949700@oscochurch.org
SUMMARY:Men's Ministry Huddle Bible Study
DESCRIPTION:Join the men of Osco Community Church as they study Betterman 11-week Bible study. \nThey meet weekly with 2 options: Mondays 7-8:15 PM – Starts April 13th or Saturdays 7-8:15 AM – Starts April 18th. \nSign up at the Information Center (Please let us know if you prefer Mondays or Saturdays\, & if you would be willing to facilitate discussion\, host\, or provide food.) \nFree and open to ALL Men of OCC!! \nFor more information\, contact Pastor Paul.
URL:https://oscochurch.org/event/mens-ministry-huddle-bible-study-9/
LOCATION:311 Main Street\, Osco\, IL\, 61274\, United States
CATEGORIES:Men's Ministry
ORGANIZER;CN="Osco Community Church":MAILTO:office@oscochurch.org
END:VEVENT
BEGIN:VEVENT
DTSTART;TZID=America/Chicago:20260610T083000
DTEND;TZID=America/Chicago:20260610T130000
DTSTAMP:20260421T151923
CREATED:20240905T190617Z
LAST-MODIFIED:20260409T163049Z
UID:5256-1781080200-1781096400@oscochurch.org
SUMMARY:Wednesday Warriors
DESCRIPTION:
URL:https://oscochurch.org/event/wednesday-warriors-2/
LOCATION:311 Main Street\, Osco\, IL\, 61274\, United States
CATEGORIES:Men's Ministry
ORGANIZER;CN="Osco Community Church":MAILTO:office@oscochurch.org
END:VEVENT
BEGIN:VEVENT
DTSTART;TZID=America/Chicago:20260613T070000
DTEND;TZID=America/Chicago:20260613T081500
DTSTAMP:20260421T151923
CREATED:20260326T150526Z
LAST-MODIFIED:20260326T150537Z
UID:6606-1781334000-1781338500@oscochurch.org
SUMMARY:Men's Ministry Huddle Bible Study
DESCRIPTION:Join the men of Osco Community Church as they study Betterman 11-week Bible study. \nThey meet weekly with 2 options: Mondays 7-8:15 PM – Starts April 13th or Saturdays 7-8:15 AM – Starts April 18th. \nSign up at the Information Center (Please let us know if you prefer Mondays or Saturdays\, & if you would be willing to facilitate discussion\, host\, or provide food.) \nFree and open to ALL Men of OCC!! \nFor more information\, contact Pastor Paul.
URL:https://oscochurch.org/event/mens-ministry-huddle-bible-study-20/
LOCATION:311 Main Street\, Osco\, IL\, 61274\, United States
CATEGORIES:Men's Ministry
ORGANIZER;CN="Osco Community Church":MAILTO:office@oscochurch.org
END:VEVENT
BEGIN:VEVENT
DTSTART;TZID=America/Chicago:20260615T190000
DTEND;TZID=America/Chicago:20260615T201500
DTSTAMP:20260421T151923
CREATED:20260326T150002Z
LAST-MODIFIED:20260326T150002Z
UID:6586-1781550000-1781554500@oscochurch.org
SUMMARY:Men's Ministry Huddle Bible Study
DESCRIPTION:Join the men of Osco Community Church as they study Betterman 11-week Bible study. \nThey meet weekly with 2 options: Mondays 7-8:15 PM – Starts April 13th or Saturdays 7-8:15 AM – Starts April 18th. \nSign up at the Information Center (Please let us know if you prefer Mondays or Saturdays\, & if you would be willing to facilitate discussion\, host\, or provide food.) \nFree and open to ALL Men of OCC!! \nFor more information\, contact Pastor Paul.
URL:https://oscochurch.org/event/mens-ministry-huddle-bible-study-10/
LOCATION:311 Main Street\, Osco\, IL\, 61274\, United States
CATEGORIES:Men's Ministry
ORGANIZER;CN="Osco Community Church":MAILTO:office@oscochurch.org
END:VEVENT
BEGIN:VEVENT
DTSTART;TZID=America/Chicago:20260620T070000
DTEND;TZID=America/Chicago:20260620T081500
DTSTAMP:20260421T151923
CREATED:20260326T150550Z
LAST-MODIFIED:20260326T150550Z
UID:6608-1781938800-1781943300@oscochurch.org
SUMMARY:Men's Ministry Huddle Bible Study
DESCRIPTION:Join the men of Osco Community Church as they study Betterman 11-week Bible study. \nThey meet weekly with 2 options: Mondays 7-8:15 PM – Starts April 13th or Saturdays 7-8:15 AM – Starts April 18th. \nSign up at the Information Center (Please let us know if you prefer Mondays or Saturdays\, & if you would be willing to facilitate discussion\, host\, or provide food.) \nFree and open to ALL Men of OCC!! \nFor more information\, contact Pastor Paul.
URL:https://oscochurch.org/event/mens-ministry-huddle-bible-study-21/
LOCATION:311 Main Street\, Osco\, IL\, 61274\, United States
CATEGORIES:Men's Ministry
ORGANIZER;CN="Osco Community Church":MAILTO:office@oscochurch.org
END:VEVENT
BEGIN:VEVENT
DTSTART;TZID=America/Chicago:20260622T190000
DTEND;TZID=America/Chicago:20260622T201500
DTSTAMP:20260421T151923
CREATED:20260326T150018Z
LAST-MODIFIED:20260326T150018Z
UID:6588-1782154800-1782159300@oscochurch.org
SUMMARY:Men's Ministry Huddle Bible Study
DESCRIPTION:Join the men of Osco Community Church as they study Betterman 11-week Bible study. \nThey meet weekly with 2 options: Mondays 7-8:15 PM – Starts April 13th or Saturdays 7-8:15 AM – Starts April 18th. \nSign up at the Information Center (Please let us know if you prefer Mondays or Saturdays\, & if you would be willing to facilitate discussion\, host\, or provide food.) \nFree and open to ALL Men of OCC!! \nFor more information\, contact Pastor Paul.
URL:https://oscochurch.org/event/mens-ministry-huddle-bible-study-11/
LOCATION:311 Main Street\, Osco\, IL\, 61274\, United States
CATEGORIES:Men's Ministry
ORGANIZER;CN="Osco Community Church":MAILTO:office@oscochurch.org
END:VEVENT
BEGIN:VEVENT
DTSTART;TZID=America/Chicago:20260627T070000
DTEND;TZID=America/Chicago:20260627T081500
DTSTAMP:20260421T151923
CREATED:20260326T150607Z
LAST-MODIFIED:20260326T150607Z
UID:6610-1782543600-1782548100@oscochurch.org
SUMMARY:Men's Ministry Huddle Bible Study
DESCRIPTION:Join the men of Osco Community Church as they study Betterman 11-week Bible study. \nThey meet weekly with 2 options: Mondays 7-8:15 PM – Starts April 13th or Saturdays 7-8:15 AM – Starts April 18th. \nSign up at the Information Center (Please let us know if you prefer Mondays or Saturdays\, & if you would be willing to facilitate discussion\, host\, or provide food.) \nFree and open to ALL Men of OCC!! \nFor more information\, contact Pastor Paul.
URL:https://oscochurch.org/event/mens-ministry-huddle-bible-study-22/
LOCATION:311 Main Street\, Osco\, IL\, 61274\, United States
CATEGORIES:Men's Ministry
ORGANIZER;CN="Osco Community Church":MAILTO:office@oscochurch.org
END:VEVENT
END:VCALENDAR