BEGIN:VCALENDAR
VERSION:2.0
PRODID:-//Osco Community Church - ECPv6.15.20//NONSGML v1.0//EN
CALSCALE:GREGORIAN
METHOD:PUBLISH
X-WR-CALNAME:Osco Community Church
X-ORIGINAL-URL:https://oscochurch.org
X-WR-CALDESC:Events for Osco Community Church
REFRESH-INTERVAL;VALUE=DURATION:PT1H
X-Robots-Tag:noindex
X-PUBLISHED-TTL:PT1H
BEGIN:VTIMEZONE
TZID:America/Chicago
BEGIN:DAYLIGHT
TZOFFSETFROM:-0600
TZOFFSETTO:-0500
TZNAME:CDT
DTSTART:20250309T080000
END:DAYLIGHT
BEGIN:STANDARD
TZOFFSETFROM:-0500
TZOFFSETTO:-0600
TZNAME:CST
DTSTART:20251102T070000
END:STANDARD
BEGIN:DAYLIGHT
TZOFFSETFROM:-0600
TZOFFSETTO:-0500
TZNAME:CDT
DTSTART:20260308T080000
END:DAYLIGHT
BEGIN:STANDARD
TZOFFSETFROM:-0500
TZOFFSETTO:-0600
TZNAME:CST
DTSTART:20261101T070000
END:STANDARD
BEGIN:DAYLIGHT
TZOFFSETFROM:-0600
TZOFFSETTO:-0500
TZNAME:CDT
DTSTART:20270314T080000
END:DAYLIGHT
BEGIN:STANDARD
TZOFFSETFROM:-0500
TZOFFSETTO:-0600
TZNAME:CST
DTSTART:20271107T070000
END:STANDARD
END:VTIMEZONE
BEGIN:VEVENT
DTSTART;TZID=America/Chicago:20260502T070000
DTEND;TZID=America/Chicago:20260502T081500
DTSTAMP:20260421T073550
CREATED:20260326T150341Z
LAST-MODIFIED:20260326T150341Z
UID:6594-1777705200-1777709700@oscochurch.org
SUMMARY:Men's Ministry Huddle Bible Study
DESCRIPTION:Join the men of Osco Community Church as they study Betterman 11-week Bible study. \nThey meet weekly with 2 options: Mondays 7-8:15 PM – Starts April 13th or Saturdays 7-8:15 AM – Starts April 18th. \nSign up at the Information Center (Please let us know if you prefer Mondays or Saturdays\, & if you would be willing to facilitate discussion\, host\, or provide food.) \nFree and open to ALL Men of OCC!! \nFor more information\, contact Pastor Paul.
URL:https://oscochurch.org/event/mens-ministry-huddle-bible-study-14/
LOCATION:311 Main Street\, Osco\, IL\, 61274\, United States
CATEGORIES:Men's Ministry
ORGANIZER;CN="Osco Community Church":MAILTO:office@oscochurch.org
END:VEVENT
BEGIN:VEVENT
DTSTART;TZID=America/Chicago:20260504T190000
DTEND;TZID=America/Chicago:20260504T201500
DTSTAMP:20260421T073550
CREATED:20260326T145831Z
LAST-MODIFIED:20260326T145831Z
UID:6574-1777921200-1777925700@oscochurch.org
SUMMARY:Men's Ministry Huddle Bible Study
DESCRIPTION:Join the men of Osco Community Church as they study Betterman 11-week Bible study. \nThey meet weekly with 2 options: Mondays 7-8:15 PM – Starts April 13th or Saturdays 7-8:15 AM – Starts April 18th. \nSign up at the Information Center (Please let us know if you prefer Mondays or Saturdays\, & if you would be willing to facilitate discussion\, host\, or provide food.) \nFree and open to ALL Men of OCC!! \nFor more information\, contact Pastor Paul.
URL:https://oscochurch.org/event/mens-ministry-huddle-bible-study-4/
LOCATION:311 Main Street\, Osco\, IL\, 61274\, United States
CATEGORIES:Men's Ministry
ORGANIZER;CN="Osco Community Church":MAILTO:office@oscochurch.org
END:VEVENT
BEGIN:VEVENT
DTSTART;TZID=America/Chicago:20260509T070000
DTEND;TZID=America/Chicago:20260509T081500
DTSTAMP:20260421T073550
CREATED:20260326T150402Z
LAST-MODIFIED:20260326T150402Z
UID:6596-1778310000-1778314500@oscochurch.org
SUMMARY:Men's Ministry Huddle Bible Study
DESCRIPTION:Join the men of Osco Community Church as they study Betterman 11-week Bible study. \nThey meet weekly with 2 options: Mondays 7-8:15 PM – Starts April 13th or Saturdays 7-8:15 AM – Starts April 18th. \nSign up at the Information Center (Please let us know if you prefer Mondays or Saturdays\, & if you would be willing to facilitate discussion\, host\, or provide food.) \nFree and open to ALL Men of OCC!! \nFor more information\, contact Pastor Paul.
URL:https://oscochurch.org/event/mens-ministry-huddle-bible-study-15/
LOCATION:311 Main Street\, Osco\, IL\, 61274\, United States
CATEGORIES:Men's Ministry
ORGANIZER;CN="Osco Community Church":MAILTO:office@oscochurch.org
END:VEVENT
BEGIN:VEVENT
DTSTART;TZID=America/Chicago:20260511T190000
DTEND;TZID=America/Chicago:20260511T201500
DTSTAMP:20260421T073550
CREATED:20260326T145847Z
LAST-MODIFIED:20260326T145902Z
UID:6576-1778526000-1778530500@oscochurch.org
SUMMARY:Men's Ministry Huddle Bible Study
DESCRIPTION:Join the men of Osco Community Church as they study Betterman 11-week Bible study. \nThey meet weekly with 2 options: Mondays 7-8:15 PM – Starts April 13th or Saturdays 7-8:15 AM – Starts April 18th. \nSign up at the Information Center (Please let us know if you prefer Mondays or Saturdays\, & if you would be willing to facilitate discussion\, host\, or provide food.) \nFree and open to ALL Men of OCC!! \nFor more information\, contact Pastor Paul.
URL:https://oscochurch.org/event/mens-ministry-huddle-bible-study-5/
LOCATION:311 Main Street\, Osco\, IL\, 61274\, United States
CATEGORIES:Men's Ministry
ORGANIZER;CN="Osco Community Church":MAILTO:office@oscochurch.org
END:VEVENT
BEGIN:VEVENT
DTSTART;TZID=America/Chicago:20260513T083000
DTEND;TZID=America/Chicago:20260513T130000
DTSTAMP:20260421T073550
CREATED:20241028T190036Z
LAST-MODIFIED:20260326T161717Z
UID:5383-1778661000-1778677200@oscochurch.org
SUMMARY:Wednesday Warriors
DESCRIPTION:
URL:https://oscochurch.org/event/wednesday-warriors/
LOCATION:311 Main Street\, Osco\, IL\, 61274\, United States
CATEGORIES:Men's Ministry
ORGANIZER;CN="Osco Community Church":MAILTO:office@oscochurch.org
END:VEVENT
BEGIN:VEVENT
DTSTART;TZID=America/Chicago:20260516T070000
DTEND;TZID=America/Chicago:20260516T081500
DTSTAMP:20260421T073550
CREATED:20260326T150423Z
LAST-MODIFIED:20260326T150423Z
UID:6598-1778914800-1778919300@oscochurch.org
SUMMARY:Men's Ministry Huddle Bible Study
DESCRIPTION:Join the men of Osco Community Church as they study Betterman 11-week Bible study. \nThey meet weekly with 2 options: Mondays 7-8:15 PM – Starts April 13th or Saturdays 7-8:15 AM – Starts April 18th. \nSign up at the Information Center (Please let us know if you prefer Mondays or Saturdays\, & if you would be willing to facilitate discussion\, host\, or provide food.) \nFree and open to ALL Men of OCC!! \nFor more information\, contact Pastor Paul.
URL:https://oscochurch.org/event/mens-ministry-huddle-bible-study-16/
LOCATION:311 Main Street\, Osco\, IL\, 61274\, United States
CATEGORIES:Men's Ministry
ORGANIZER;CN="Osco Community Church":MAILTO:office@oscochurch.org
END:VEVENT
BEGIN:VEVENT
DTSTART;TZID=America/Chicago:20260518T190000
DTEND;TZID=America/Chicago:20260518T201500
DTSTAMP:20260421T073550
CREATED:20260326T145914Z
LAST-MODIFIED:20260326T145914Z
UID:6578-1779130800-1779135300@oscochurch.org
SUMMARY:Men's Ministry Huddle Bible Study
DESCRIPTION:Join the men of Osco Community Church as they study Betterman 11-week Bible study. \nThey meet weekly with 2 options: Mondays 7-8:15 PM – Starts April 13th or Saturdays 7-8:15 AM – Starts April 18th. \nSign up at the Information Center (Please let us know if you prefer Mondays or Saturdays\, & if you would be willing to facilitate discussion\, host\, or provide food.) \nFree and open to ALL Men of OCC!! \nFor more information\, contact Pastor Paul.
URL:https://oscochurch.org/event/mens-ministry-huddle-bible-study-6/
LOCATION:311 Main Street\, Osco\, IL\, 61274\, United States
CATEGORIES:Men's Ministry
ORGANIZER;CN="Osco Community Church":MAILTO:office@oscochurch.org
END:VEVENT
BEGIN:VEVENT
DTSTART;TZID=America/Chicago:20260523T070000
DTEND;TZID=America/Chicago:20260523T081500
DTSTAMP:20260421T073550
CREATED:20260326T150442Z
LAST-MODIFIED:20260326T150442Z
UID:6600-1779519600-1779524100@oscochurch.org
SUMMARY:Men's Ministry Huddle Bible Study
DESCRIPTION:Join the men of Osco Community Church as they study Betterman 11-week Bible study. \nThey meet weekly with 2 options: Mondays 7-8:15 PM – Starts April 13th or Saturdays 7-8:15 AM – Starts April 18th. \nSign up at the Information Center (Please let us know if you prefer Mondays or Saturdays\, & if you would be willing to facilitate discussion\, host\, or provide food.) \nFree and open to ALL Men of OCC!! \nFor more information\, contact Pastor Paul.
URL:https://oscochurch.org/event/mens-ministry-huddle-bible-study-17/
LOCATION:311 Main Street\, Osco\, IL\, 61274\, United States
CATEGORIES:Men's Ministry
ORGANIZER;CN="Osco Community Church":MAILTO:office@oscochurch.org
END:VEVENT
BEGIN:VEVENT
DTSTART;TZID=America/Chicago:20260525T190000
DTEND;TZID=America/Chicago:20260525T201500
DTSTAMP:20260421T073550
CREATED:20260326T145927Z
LAST-MODIFIED:20260326T145927Z
UID:6580-1779735600-1779740100@oscochurch.org
SUMMARY:Men's Ministry Huddle Bible Study
DESCRIPTION:Join the men of Osco Community Church as they study Betterman 11-week Bible study. \nThey meet weekly with 2 options: Mondays 7-8:15 PM – Starts April 13th or Saturdays 7-8:15 AM – Starts April 18th. \nSign up at the Information Center (Please let us know if you prefer Mondays or Saturdays\, & if you would be willing to facilitate discussion\, host\, or provide food.) \nFree and open to ALL Men of OCC!! \nFor more information\, contact Pastor Paul.
URL:https://oscochurch.org/event/mens-ministry-huddle-bible-study-7/
LOCATION:311 Main Street\, Osco\, IL\, 61274\, United States
CATEGORIES:Men's Ministry
ORGANIZER;CN="Osco Community Church":MAILTO:office@oscochurch.org
END:VEVENT
BEGIN:VEVENT
DTSTART;TZID=America/Chicago:20260530T070000
DTEND;TZID=America/Chicago:20260530T081500
DTSTAMP:20260421T073550
CREATED:20260326T150455Z
LAST-MODIFIED:20260326T150455Z
UID:6602-1780124400-1780128900@oscochurch.org
SUMMARY:Men's Ministry Huddle Bible Study
DESCRIPTION:Join the men of Osco Community Church as they study Betterman 11-week Bible study. \nThey meet weekly with 2 options: Mondays 7-8:15 PM – Starts April 13th or Saturdays 7-8:15 AM – Starts April 18th. \nSign up at the Information Center (Please let us know if you prefer Mondays or Saturdays\, & if you would be willing to facilitate discussion\, host\, or provide food.) \nFree and open to ALL Men of OCC!! \nFor more information\, contact Pastor Paul.
URL:https://oscochurch.org/event/mens-ministry-huddle-bible-study-18/
LOCATION:311 Main Street\, Osco\, IL\, 61274\, United States
CATEGORIES:Men's Ministry
ORGANIZER;CN="Osco Community Church":MAILTO:office@oscochurch.org
END:VEVENT
END:VCALENDAR