BEGIN:VCALENDAR
VERSION:2.0
PRODID:-//Osco Community Church - ECPv6.15.20//NONSGML v1.0//EN
CALSCALE:GREGORIAN
METHOD:PUBLISH
X-WR-CALNAME:Osco Community Church
X-ORIGINAL-URL:https://oscochurch.org
X-WR-CALDESC:Events for Osco Community Church
REFRESH-INTERVAL;VALUE=DURATION:PT1H
X-Robots-Tag:noindex
X-PUBLISHED-TTL:PT1H
BEGIN:VTIMEZONE
TZID:America/Chicago
BEGIN:DAYLIGHT
TZOFFSETFROM:-0600
TZOFFSETTO:-0500
TZNAME:CDT
DTSTART:20250309T080000
END:DAYLIGHT
BEGIN:STANDARD
TZOFFSETFROM:-0500
TZOFFSETTO:-0600
TZNAME:CST
DTSTART:20251102T070000
END:STANDARD
BEGIN:DAYLIGHT
TZOFFSETFROM:-0600
TZOFFSETTO:-0500
TZNAME:CDT
DTSTART:20260308T080000
END:DAYLIGHT
BEGIN:STANDARD
TZOFFSETFROM:-0500
TZOFFSETTO:-0600
TZNAME:CST
DTSTART:20261101T070000
END:STANDARD
BEGIN:DAYLIGHT
TZOFFSETFROM:-0600
TZOFFSETTO:-0500
TZNAME:CDT
DTSTART:20270314T080000
END:DAYLIGHT
BEGIN:STANDARD
TZOFFSETFROM:-0500
TZOFFSETTO:-0600
TZNAME:CST
DTSTART:20271107T070000
END:STANDARD
END:VTIMEZONE
BEGIN:VEVENT
DTSTART;TZID=America/Chicago:20260712T171500
DTEND;TZID=America/Chicago:20260712T200000
DTSTAMP:20260421T074406
CREATED:20240531T170146Z
LAST-MODIFIED:20260410T163406Z
UID:4177-1783876500-1783886400@oscochurch.org
SUMMARY:VBS 2026 - Illumination Station
DESCRIPTION:Culture claims to know about Jesus\, but many people are in the dark about who He really is. Some might see Jesus as just a person from history or a good man\nor a good teacher—but He is more than that! This summer\, VBS will shine a light on the truth of who Jesus really is. Meet us at Illumination Station™ for the brightest week of the year. \nSunday\, July 12th – Thursday\, July 16th \nDinner starts at 5:15 pm\nVBS runs 6 to 8 pm \nFor children Ages 3 through those who just finished 5th grade\nYouth Bible Study for those who just finished 6th – 12th grade with an opportunity to serve during VBS. \nAll Activities are FREE!! \nOsco Community Church\n311 Main Street\nOsco\, IL \nFor more information email office@oscochurch.org \nRegistration is open online at oscochurch.org!!
URL:https://oscochurch.org/event/vbs-2024-breaker-rock-beach/
LOCATION:311 Main Street\, Osco\, IL\, 61274\, United States
CATEGORIES:Children's Ministry
ORGANIZER;CN="Osco Community Church":MAILTO:office@oscochurch.org
END:VEVENT
BEGIN:VEVENT
DTSTART;TZID=America/Chicago:20260713T171500
DTEND;TZID=America/Chicago:20260713T200000
DTSTAMP:20260421T074406
CREATED:20250407T193244Z
LAST-MODIFIED:20260410T163530Z
UID:5808-1783962900-1783972800@oscochurch.org
SUMMARY:VBS 2026 - Illumination Station
DESCRIPTION:Culture claims to know about Jesus\, but many people are in the dark about who He really is. Some might see Jesus as just a person from history or a good man\nor a good teacher—but He is more than that! This summer\, VBS will shine a light on the truth of who Jesus really is. Meet us at Illumination Station™ for the brightest week of the year. \nSunday\, July 12th – Thursday\, July 16th \nDinner starts at 5:15 pm\nVBS runs 6 to 8 pm \nFor children Ages 3 through those who just finished 5th grade\nYouth Bible Study for those who just finished 6th – 12th grade with an opportunity to serve during VBS. \nAll Activities are FREE!! \nOsco Community Church\n311 Main Street\nOsco\, IL \nFor more information email office@oscochurch.org \nRegistration is open online at oscochurch.org!!
URL:https://oscochurch.org/event/vbs-2025-magnified/
LOCATION:311 Main Street\, Osco\, IL\, 61274\, United States
CATEGORIES:Children's Ministry
ORGANIZER;CN="Osco Community Church":MAILTO:office@oscochurch.org
END:VEVENT
BEGIN:VEVENT
DTSTART;TZID=America/Chicago:20260714T171500
DTEND;TZID=America/Chicago:20260714T200000
DTSTAMP:20260421T074406
CREATED:20260410T163624Z
LAST-MODIFIED:20260410T163624Z
UID:6653-1784049300-1784059200@oscochurch.org
SUMMARY:VBS 2026 - Illumination Station
DESCRIPTION:Culture claims to know about Jesus\, but many people are in the dark about who He really is. Some might see Jesus as just a person from history or a good man\nor a good teacher—but He is more than that! This summer\, VBS will shine a light on the truth of who Jesus really is. Meet us at Illumination Station™ for the brightest week of the year. \nSunday\, July 12th – Thursday\, July 16th \nDinner starts at 5:15 pm\nVBS runs 6 to 8 pm \nFor children Ages 3 through those who just finished 5th grade\nYouth Bible Study for those who just finished 6th – 12th grade with an opportunity to serve during VBS. \nAll Activities are FREE!! \nOsco Community Church\n311 Main Street\nOsco\, IL \nFor more information email office@oscochurch.org \nRegistration is open online at oscochurch.org!!
URL:https://oscochurch.org/event/vbs-2026-illumination-station/
LOCATION:311 Main Street\, Osco\, IL\, 61274\, United States
CATEGORIES:Children's Ministry
ORGANIZER;CN="Osco Community Church":MAILTO:office@oscochurch.org
END:VEVENT
BEGIN:VEVENT
DTSTART;TZID=America/Chicago:20260715T171500
DTEND;TZID=America/Chicago:20260715T200000
DTSTAMP:20260421T074406
CREATED:20260410T163642Z
LAST-MODIFIED:20260410T163642Z
UID:6655-1784135700-1784145600@oscochurch.org
SUMMARY:VBS 2026 - Illumination Station
DESCRIPTION:Culture claims to know about Jesus\, but many people are in the dark about who He really is. Some might see Jesus as just a person from history or a good man\nor a good teacher—but He is more than that! This summer\, VBS will shine a light on the truth of who Jesus really is. Meet us at Illumination Station™ for the brightest week of the year. \nSunday\, July 12th – Thursday\, July 16th \nDinner starts at 5:15 pm\nVBS runs 6 to 8 pm \nFor children Ages 3 through those who just finished 5th grade\nYouth Bible Study for those who just finished 6th – 12th grade with an opportunity to serve during VBS. \nAll Activities are FREE!! \nOsco Community Church\n311 Main Street\nOsco\, IL \nFor more information email office@oscochurch.org \nRegistration is open online at oscochurch.org!!
URL:https://oscochurch.org/event/vbs-2026-illumination-station-2/
LOCATION:311 Main Street\, Osco\, IL\, 61274\, United States
CATEGORIES:Children's Ministry
ORGANIZER;CN="Osco Community Church":MAILTO:office@oscochurch.org
END:VEVENT
BEGIN:VEVENT
DTSTART;TZID=America/Chicago:20260716T171500
DTEND;TZID=America/Chicago:20260716T200000
DTSTAMP:20260421T074406
CREATED:20260410T163655Z
LAST-MODIFIED:20260410T163655Z
UID:6657-1784222100-1784232000@oscochurch.org
SUMMARY:VBS 2026 - Illumination Station
DESCRIPTION:Culture claims to know about Jesus\, but many people are in the dark about who He really is. Some might see Jesus as just a person from history or a good man\nor a good teacher—but He is more than that! This summer\, VBS will shine a light on the truth of who Jesus really is. Meet us at Illumination Station™ for the brightest week of the year. \nSunday\, July 12th – Thursday\, July 16th \nDinner starts at 5:15 pm\nVBS runs 6 to 8 pm \nFor children Ages 3 through those who just finished 5th grade\nYouth Bible Study for those who just finished 6th – 12th grade with an opportunity to serve during VBS. \nAll Activities are FREE!! \nOsco Community Church\n311 Main Street\nOsco\, IL \nFor more information email office@oscochurch.org \nRegistration is open online at oscochurch.org!!
URL:https://oscochurch.org/event/vbs-2026-illumination-station-3/
LOCATION:311 Main Street\, Osco\, IL\, 61274\, United States
CATEGORIES:Children's Ministry
ORGANIZER;CN="Osco Community Church":MAILTO:office@oscochurch.org
END:VEVENT
BEGIN:VEVENT
DTSTART;TZID=America/Chicago:20260826T180000
DTEND;TZID=America/Chicago:20260826T193000
DTSTAMP:20260421T074406
CREATED:20240723T180648Z
LAST-MODIFIED:20260416T150705Z
UID:4359-1787767200-1787772600@oscochurch.org
SUMMARY:AWANA Kick-Off
DESCRIPTION:Awana gives children and youth an opportunity to know\, love\, and serve Jesus.\nWe meet on Wednesdays at Osco Community Church from 6 to 7:30 pm \nRegistration will reopen in the fall on our website for the 2026-2027 year! \nAwana Clubs (Registration $20/Student)\nCubbies: Ages 3 & 4\nSparks: Kindergarten – 2nd Grade\nT&T: 3rd – 6th Grade \nFREE Bible Study for 7th – 12th Grade \nSign up for Updates by texting @oscoawana to 81010 \nFor more information\, call (309) 522-5561 or go to \nfacebook.com/OscoAwana \nImportant Dates: \nAug. 26th\, 2026 — Kickoff & Meet the Leaders \nSept. 2\, 2026 – 1st official night of Awana
URL:https://oscochurch.org/event/awana-kick-off/
LOCATION:311 Main Street\, Osco\, IL\, 61274\, United States
CATEGORIES:Children's Ministry
ORGANIZER;CN="Osco Community Church":MAILTO:office@oscochurch.org
END:VEVENT
END:VCALENDAR