BEGIN:VCALENDAR
VERSION:2.0
PRODID:-//Osco Community Church - ECPv6.15.20//NONSGML v1.0//EN
CALSCALE:GREGORIAN
METHOD:PUBLISH
X-ORIGINAL-URL:https://oscochurch.org
X-WR-CALDESC:Events for Osco Community Church
REFRESH-INTERVAL;VALUE=DURATION:PT1H
X-Robots-Tag:noindex
X-PUBLISHED-TTL:PT1H
BEGIN:VTIMEZONE
TZID:America/Chicago
BEGIN:DAYLIGHT
TZOFFSETFROM:-0600
TZOFFSETTO:-0500
TZNAME:CDT
DTSTART:20240310T080000
END:DAYLIGHT
BEGIN:STANDARD
TZOFFSETFROM:-0500
TZOFFSETTO:-0600
TZNAME:CST
DTSTART:20241103T070000
END:STANDARD
BEGIN:DAYLIGHT
TZOFFSETFROM:-0600
TZOFFSETTO:-0500
TZNAME:CDT
DTSTART:20250309T080000
END:DAYLIGHT
BEGIN:STANDARD
TZOFFSETFROM:-0500
TZOFFSETTO:-0600
TZNAME:CST
DTSTART:20251102T070000
END:STANDARD
BEGIN:DAYLIGHT
TZOFFSETFROM:-0600
TZOFFSETTO:-0500
TZNAME:CDT
DTSTART:20260308T080000
END:DAYLIGHT
BEGIN:STANDARD
TZOFFSETFROM:-0500
TZOFFSETTO:-0600
TZNAME:CST
DTSTART:20261101T070000
END:STANDARD
END:VTIMEZONE
BEGIN:VEVENT
DTSTART;TZID=America/Chicago:20251217T180000
DTEND;TZID=America/Chicago:20251217T193000
DTSTAMP:20260421T122836
CREATED:20240917T001723Z
LAST-MODIFIED:20251016T190736Z
UID:3384-1765994400-1765999800@oscochurch.org
SUMMARY:AWANA Store
DESCRIPTION:Donations of new gifts are being accepted now for the AWANA Christmas Store. \nGifts are needed for women\, men & children of all ages. There is a large group of 3rd-6th graders so items for 9-12 years old would be helpful. \nIf you would like ideas for specific items\, you can contact M or D Carlson or M Betcher or see the current TORCH newsletter. \nAt this time we are requesting no “gently used” items be donated. \nWrapping paper\, tags\, & tape are also needed. \nDonations for the store can be dropped off in the AWANA Christmas Store bin next to the AWANA closet (as you are heading to the fellowship hall) by Sunday\, December 14th..
URL:https://oscochurch.org/event/awana-store-2/
LOCATION:311 Main Street\, Osco\, IL\, 61274\, United States
CATEGORIES:Children's Ministry
ORGANIZER;CN="Osco Community Church":MAILTO:office@oscochurch.org
END:VEVENT
END:VCALENDAR