BEGIN:VCALENDAR
VERSION:2.0
PRODID:-//Osco Community Church - ECPv6.15.20//NONSGML v1.0//EN
CALSCALE:GREGORIAN
METHOD:PUBLISH
X-ORIGINAL-URL:https://oscochurch.org
X-WR-CALDESC:Events for Osco Community Church
REFRESH-INTERVAL;VALUE=DURATION:PT1H
X-Robots-Tag:noindex
X-PUBLISHED-TTL:PT1H
BEGIN:VTIMEZONE
TZID:America/Chicago
BEGIN:DAYLIGHT
TZOFFSETFROM:-0600
TZOFFSETTO:-0500
TZNAME:CDT
DTSTART:20240310T080000
END:DAYLIGHT
BEGIN:STANDARD
TZOFFSETFROM:-0500
TZOFFSETTO:-0600
TZNAME:CST
DTSTART:20241103T070000
END:STANDARD
BEGIN:DAYLIGHT
TZOFFSETFROM:-0600
TZOFFSETTO:-0500
TZNAME:CDT
DTSTART:20250309T080000
END:DAYLIGHT
BEGIN:STANDARD
TZOFFSETFROM:-0500
TZOFFSETTO:-0600
TZNAME:CST
DTSTART:20251102T070000
END:STANDARD
BEGIN:DAYLIGHT
TZOFFSETFROM:-0600
TZOFFSETTO:-0500
TZNAME:CDT
DTSTART:20260308T080000
END:DAYLIGHT
BEGIN:STANDARD
TZOFFSETFROM:-0500
TZOFFSETTO:-0600
TZNAME:CST
DTSTART:20261101T070000
END:STANDARD
END:VTIMEZONE
BEGIN:VEVENT
DTSTART;TZID=America/Chicago:20251015T180000
DTEND;TZID=America/Chicago:20251015T193000
DTSTAMP:20260421T151436
CREATED:20250821T160602Z
LAST-MODIFIED:20250821T160602Z
UID:6115-1760551200-1760556600@oscochurch.org
SUMMARY:AWANA
DESCRIPTION:Awana gives children and youth an opportunity to know\, love\, and serve Jesus.\nWe meet on Wednesdays at Osco Community Church from 6 to 7:30 pm \nRegistration is open on our website for the 2025-2026 year! \nAwana Clubs (Registration $20/Student)\nCubbies: Ages 3 & 4\nSparks: Kindergarten – 2nd Grade\nT&T: 3rd – 6th Grade \nFREE Bible Study for 7th – 12th Grade \nSign up for Updates by texting @oscoawana to 81010 \nFor more information\, call (309) 522-5561 or go to facebook.com/OscoAwana \nImportant Dates: \nAug. 27th\, 2025 — Kickoff & Meet the Leaders \nSept. 3\, 2025 – 1st official night of Awana \nNov. 26th – No Awana – Thanksgiving Break \nDec. 17th – Awana Christmas Store \nDec. 24th & 31st – No Awana – Christmas Break \nMar. 25th – No Awana – Spring Break \nApr. 8th – Leader Appreciation and Awana Spring Store \nApr. 15th – Awards Night
URL:https://oscochurch.org/event/awana-8/
LOCATION:311 Main Street\, Osco\, IL\, 61274\, United States
CATEGORIES:Children's Ministry
ORGANIZER;CN="Osco Community Church":MAILTO:office@oscochurch.org
END:VEVENT
END:VCALENDAR