BEGIN:VCALENDAR
VERSION:2.0
PRODID:-//Osco Community Church - ECPv6.15.20//NONSGML v1.0//EN
CALSCALE:GREGORIAN
METHOD:PUBLISH
X-WR-CALNAME:Osco Community Church
X-ORIGINAL-URL:https://oscochurch.org
X-WR-CALDESC:Events for Osco Community Church
REFRESH-INTERVAL;VALUE=DURATION:PT1H
X-Robots-Tag:noindex
X-PUBLISHED-TTL:PT1H
BEGIN:VTIMEZONE
TZID:America/Chicago
BEGIN:DAYLIGHT
TZOFFSETFROM:-0600
TZOFFSETTO:-0500
TZNAME:CDT
DTSTART:20250309T080000
END:DAYLIGHT
BEGIN:STANDARD
TZOFFSETFROM:-0500
TZOFFSETTO:-0600
TZNAME:CST
DTSTART:20251102T070000
END:STANDARD
BEGIN:DAYLIGHT
TZOFFSETFROM:-0600
TZOFFSETTO:-0500
TZNAME:CDT
DTSTART:20260308T080000
END:DAYLIGHT
BEGIN:STANDARD
TZOFFSETFROM:-0500
TZOFFSETTO:-0600
TZNAME:CST
DTSTART:20261101T070000
END:STANDARD
BEGIN:DAYLIGHT
TZOFFSETFROM:-0600
TZOFFSETTO:-0500
TZNAME:CDT
DTSTART:20270314T080000
END:DAYLIGHT
BEGIN:STANDARD
TZOFFSETFROM:-0500
TZOFFSETTO:-0600
TZNAME:CST
DTSTART:20271107T070000
END:STANDARD
END:VTIMEZONE
BEGIN:VEVENT
DTSTART;TZID=America/Chicago:20260420T120000
DTEND;TZID=America/Chicago:20260420T123000
DTSTAMP:20260421T073420
CREATED:20250515T150337Z
LAST-MODIFIED:20260213T173552Z
UID:5926-1776686400-1776688200@oscochurch.org
SUMMARY:TORCH Items due to Office
DESCRIPTION:
URL:https://oscochurch.org/event/torch-items-due-to-office-3/
LOCATION:311 Main Street\, Osco\, IL\, 61274\, United States
CATEGORIES:Staff/Office
ORGANIZER;CN="Osco Community Church":MAILTO:office@oscochurch.org
END:VEVENT
BEGIN:VEVENT
DTSTART;TZID=America/Chicago:20260420T173000
DTEND;TZID=America/Chicago:20260420T200000
DTSTAMP:20260421T073420
CREATED:20250123T174816Z
LAST-MODIFIED:20260213T173625Z
UID:5606-1776706200-1776715200@oscochurch.org
SUMMARY:OCC Adult Coed Volleyball
DESCRIPTION:Questions? See Heidi Hoste
URL:https://oscochurch.org/event/occ-adult-coed-volleyball-9/
LOCATION:311 Main Street\, Osco\, IL\, 61274\, United States
CATEGORIES:Adult Ministry
ORGANIZER;CN="Osco Community Church":MAILTO:office@oscochurch.org
END:VEVENT
BEGIN:VEVENT
DTSTART;TZID=America/Chicago:20260420T190000
DTEND;TZID=America/Chicago:20260420T201500
DTSTAMP:20260421T073420
CREATED:20260326T145740Z
LAST-MODIFIED:20260326T145740Z
UID:6570-1776711600-1776716100@oscochurch.org
SUMMARY:Men's Ministry Huddle Bible Study
DESCRIPTION:Join the men of Osco Community Church as they study Betterman 11-week Bible study. \nThey meet weekly with 2 options: Mondays 7-8:15 PM – Starts April 13th or Saturdays 7-8:15 AM – Starts April 18th. \nSign up at the Information Center (Please let us know if you prefer Mondays or Saturdays\, & if you would be willing to facilitate discussion\, host\, or provide food.) \nFree and open to ALL Men of OCC!! \nFor more information\, contact Pastor Paul.
URL:https://oscochurch.org/event/mens-ministry-huddle-bible-study-2/
LOCATION:311 Main Street\, Osco\, IL\, 61274\, United States
CATEGORIES:Men's Ministry
ORGANIZER;CN="Osco Community Church":MAILTO:office@oscochurch.org
END:VEVENT
BEGIN:VEVENT
DTSTART;TZID=America/Chicago:20260420T190000
DTEND;TZID=America/Chicago:20260420T213000
DTSTAMP:20260421T073420
CREATED:20260107T200828Z
LAST-MODIFIED:20260310T193904Z
UID:6379-1776711600-1776720600@oscochurch.org
SUMMARY:Elder Meeting
DESCRIPTION:
URL:https://oscochurch.org/event/elder-meeting-2/
LOCATION:311 Main Street\, Osco\, IL\, 61274\, United States
CATEGORIES:Staff/Office
ORGANIZER;CN="Osco Community Church":MAILTO:office@oscochurch.org
END:VEVENT
END:VCALENDAR